BEGIN:VCALENDAR
VERSION:2.0
PRODID:-//Brotherhood of Locomotive Engineers and Trainmen - ECPv6.15.20//NONSGML v1.0//EN
CALSCALE:GREGORIAN
METHOD:PUBLISH
X-ORIGINAL-URL:https://blet104.org
X-WR-CALDESC:Events for Brotherhood of Locomotive Engineers and Trainmen
REFRESH-INTERVAL;VALUE=DURATION:PT1H
X-Robots-Tag:noindex
X-PUBLISHED-TTL:PT1H
BEGIN:VTIMEZONE
TZID:America/Denver
BEGIN:DAYLIGHT
TZOFFSETFROM:-0700
TZOFFSETTO:-0600
TZNAME:MDT
DTSTART:20260308T090000
END:DAYLIGHT
BEGIN:STANDARD
TZOFFSETFROM:-0600
TZOFFSETTO:-0700
TZNAME:MST
DTSTART:20261101T080000
END:STANDARD
BEGIN:DAYLIGHT
TZOFFSETFROM:-0700
TZOFFSETTO:-0600
TZNAME:MDT
DTSTART:20270314T090000
END:DAYLIGHT
BEGIN:STANDARD
TZOFFSETFROM:-0600
TZOFFSETTO:-0700
TZNAME:MST
DTSTART:20271107T080000
END:STANDARD
BEGIN:DAYLIGHT
TZOFFSETFROM:-0700
TZOFFSETTO:-0600
TZNAME:MDT
DTSTART:20280312T090000
END:DAYLIGHT
BEGIN:STANDARD
TZOFFSETFROM:-0600
TZOFFSETTO:-0700
TZNAME:MST
DTSTART:20281105T080000
END:STANDARD
END:VTIMEZONE
BEGIN:VEVENT
DTSTART;VALUE=DATE:20270505
DTEND;VALUE=DATE:20270506
DTSTAMP:20260423T043832
CREATED:20250618T093708Z
LAST-MODIFIED:20250618T093708Z
UID:10000795-1809475200-1809561599@blet104.org
SUMMARY:VACATION AWARDS
DESCRIPTION:
URL:https://blet104.org/event/vacation-awards/2027-05-05/
END:VEVENT
BEGIN:VEVENT
DTSTART;VALUE=DATE:20270510
DTEND;VALUE=DATE:20270511
DTSTAMP:20260423T043832
CREATED:20250618T093629Z
LAST-MODIFIED:20250618T093716Z
UID:10000534-1809907200-1809993599@blet104.org
SUMMARY:BOARD ADJUSTMENTS
DESCRIPTION:
URL:https://blet104.org/event/board-adjustments/2027-05-10/
END:VEVENT
BEGIN:VEVENT
DTSTART;VALUE=DATE:20270512
DTEND;VALUE=DATE:20270513
DTSTAMP:20260423T043832
CREATED:20250618T093708Z
LAST-MODIFIED:20250618T093708Z
UID:10000796-1810080000-1810166399@blet104.org
SUMMARY:VACATION AWARDS
DESCRIPTION:
URL:https://blet104.org/event/vacation-awards/2027-05-12/
END:VEVENT
BEGIN:VEVENT
DTSTART;TZID=America/Denver:20270512T101500
DTEND;TZID=America/Denver:20270512T170000
DTSTAMP:20260423T043832
CREATED:20250423T154210Z
LAST-MODIFIED:20250618T093439Z
UID:10000382-1810116900-1810141200@blet104.org
SUMMARY:REGULAR DIVISION 104 MEETING
DESCRIPTION:
URL:https://blet104.org/event/vestibulum-convallis-fermentum/2027-05-12/
END:VEVENT
BEGIN:VEVENT
DTSTART;VALUE=DATE:20270517
DTEND;VALUE=DATE:20270518
DTSTAMP:20260423T043832
CREATED:20250618T093629Z
LAST-MODIFIED:20250618T093716Z
UID:10000535-1810512000-1810598399@blet104.org
SUMMARY:BOARD ADJUSTMENTS
DESCRIPTION:
URL:https://blet104.org/event/board-adjustments/2027-05-17/
END:VEVENT
BEGIN:VEVENT
DTSTART;VALUE=DATE:20270519
DTEND;VALUE=DATE:20270520
DTSTAMP:20260423T043832
CREATED:20250618T093708Z
LAST-MODIFIED:20250618T093708Z
UID:10000797-1810684800-1810771199@blet104.org
SUMMARY:VACATION AWARDS
DESCRIPTION:
URL:https://blet104.org/event/vacation-awards/2027-05-19/
END:VEVENT
BEGIN:VEVENT
DTSTART;VALUE=DATE:20270524
DTEND;VALUE=DATE:20270525
DTSTAMP:20260423T043833
CREATED:20250618T093629Z
LAST-MODIFIED:20250618T093716Z
UID:10000536-1811116800-1811203199@blet104.org
SUMMARY:BOARD ADJUSTMENTS
DESCRIPTION:
URL:https://blet104.org/event/board-adjustments/2027-05-24/
END:VEVENT
BEGIN:VEVENT
DTSTART;VALUE=DATE:20270526
DTEND;VALUE=DATE:20270527
DTSTAMP:20260423T043833
CREATED:20250618T093708Z
LAST-MODIFIED:20250618T093708Z
UID:10000798-1811289600-1811375999@blet104.org
SUMMARY:VACATION AWARDS
DESCRIPTION:
URL:https://blet104.org/event/vacation-awards/2027-05-26/
END:VEVENT
BEGIN:VEVENT
DTSTART;VALUE=DATE:20270531
DTEND;VALUE=DATE:20270601
DTSTAMP:20260423T043833
CREATED:20250618T093629Z
LAST-MODIFIED:20250618T093716Z
UID:10000537-1811721600-1811807999@blet104.org
SUMMARY:BOARD ADJUSTMENTS
DESCRIPTION:
URL:https://blet104.org/event/board-adjustments/2027-05-31/
END:VEVENT
BEGIN:VEVENT
DTSTART;VALUE=DATE:20270602
DTEND;VALUE=DATE:20270603
DTSTAMP:20260423T043833
CREATED:20250618T093708Z
LAST-MODIFIED:20250618T093708Z
UID:10000799-1811894400-1811980799@blet104.org
SUMMARY:VACATION AWARDS
DESCRIPTION:
URL:https://blet104.org/event/vacation-awards/2027-06-02/
END:VEVENT
BEGIN:VEVENT
DTSTART;TZID=America/Denver:20270602T101500
DTEND;TZID=America/Denver:20270602T170000
DTSTAMP:20260423T043833
CREATED:20250423T154210Z
LAST-MODIFIED:20250618T093439Z
UID:10000383-1811931300-1811955600@blet104.org
SUMMARY:REGULAR DIVISION 104 MEETING
DESCRIPTION:
URL:https://blet104.org/event/vestibulum-convallis-fermentum/2027-06-02/
END:VEVENT
BEGIN:VEVENT
DTSTART;VALUE=DATE:20270607
DTEND;VALUE=DATE:20270608
DTSTAMP:20260423T043833
CREATED:20250618T093629Z
LAST-MODIFIED:20250618T093716Z
UID:10000538-1812326400-1812412799@blet104.org
SUMMARY:BOARD ADJUSTMENTS
DESCRIPTION:
URL:https://blet104.org/event/board-adjustments/2027-06-07/
END:VEVENT
BEGIN:VEVENT
DTSTART;VALUE=DATE:20270609
DTEND;VALUE=DATE:20270610
DTSTAMP:20260423T043833
CREATED:20250618T093708Z
LAST-MODIFIED:20250618T093708Z
UID:10000800-1812499200-1812585599@blet104.org
SUMMARY:VACATION AWARDS
DESCRIPTION:
URL:https://blet104.org/event/vacation-awards/2027-06-09/
END:VEVENT
BEGIN:VEVENT
DTSTART;VALUE=DATE:20270614
DTEND;VALUE=DATE:20270615
DTSTAMP:20260423T043833
CREATED:20250618T093629Z
LAST-MODIFIED:20250618T093716Z
UID:10000539-1812931200-1813017599@blet104.org
SUMMARY:BOARD ADJUSTMENTS
DESCRIPTION:
URL:https://blet104.org/event/board-adjustments/2027-06-14/
END:VEVENT
BEGIN:VEVENT
DTSTART;VALUE=DATE:20270616
DTEND;VALUE=DATE:20270617
DTSTAMP:20260423T043833
CREATED:20250618T093708Z
LAST-MODIFIED:20250618T093708Z
UID:10000801-1813104000-1813190399@blet104.org
SUMMARY:VACATION AWARDS
DESCRIPTION:
URL:https://blet104.org/event/vacation-awards/2027-06-16/
END:VEVENT
BEGIN:VEVENT
DTSTART;VALUE=DATE:20270621
DTEND;VALUE=DATE:20270622
DTSTAMP:20260423T043833
CREATED:20250618T093629Z
LAST-MODIFIED:20250618T093716Z
UID:10000540-1813536000-1813622399@blet104.org
SUMMARY:BOARD ADJUSTMENTS
DESCRIPTION:
URL:https://blet104.org/event/board-adjustments/2027-06-21/
END:VEVENT
BEGIN:VEVENT
DTSTART;VALUE=DATE:20270623
DTEND;VALUE=DATE:20270624
DTSTAMP:20260423T043833
CREATED:20250618T093708Z
LAST-MODIFIED:20250618T093708Z
UID:10000802-1813708800-1813795199@blet104.org
SUMMARY:VACATION AWARDS
DESCRIPTION:
URL:https://blet104.org/event/vacation-awards/2027-06-23/
END:VEVENT
BEGIN:VEVENT
DTSTART;TZID=America/Denver:20270623T101500
DTEND;TZID=America/Denver:20270623T170000
DTSTAMP:20260423T043833
CREATED:20250423T154210Z
LAST-MODIFIED:20250618T093439Z
UID:10000384-1813745700-1813770000@blet104.org
SUMMARY:REGULAR DIVISION 104 MEETING
DESCRIPTION:
URL:https://blet104.org/event/vestibulum-convallis-fermentum/2027-06-23/
END:VEVENT
BEGIN:VEVENT
DTSTART;VALUE=DATE:20270628
DTEND;VALUE=DATE:20270629
DTSTAMP:20260423T043833
CREATED:20250618T093629Z
LAST-MODIFIED:20250618T093716Z
UID:10000541-1814140800-1814227199@blet104.org
SUMMARY:BOARD ADJUSTMENTS
DESCRIPTION:
URL:https://blet104.org/event/board-adjustments/2027-06-28/
END:VEVENT
BEGIN:VEVENT
DTSTART;VALUE=DATE:20270630
DTEND;VALUE=DATE:20270701
DTSTAMP:20260423T043833
CREATED:20250618T093708Z
LAST-MODIFIED:20250618T093708Z
UID:10000803-1814313600-1814399999@blet104.org
SUMMARY:VACATION AWARDS
DESCRIPTION:
URL:https://blet104.org/event/vacation-awards/2027-06-30/
END:VEVENT
BEGIN:VEVENT
DTSTART;VALUE=DATE:20270705
DTEND;VALUE=DATE:20270706
DTSTAMP:20260423T043833
CREATED:20250618T093629Z
LAST-MODIFIED:20250618T093716Z
UID:10000542-1814745600-1814831999@blet104.org
SUMMARY:BOARD ADJUSTMENTS
DESCRIPTION:
URL:https://blet104.org/event/board-adjustments/2027-07-05/
END:VEVENT
BEGIN:VEVENT
DTSTART;VALUE=DATE:20270707
DTEND;VALUE=DATE:20270708
DTSTAMP:20260423T043833
CREATED:20250618T093708Z
LAST-MODIFIED:20250618T093708Z
UID:10000804-1814918400-1815004799@blet104.org
SUMMARY:VACATION AWARDS
DESCRIPTION:
URL:https://blet104.org/event/vacation-awards/2027-07-07/
END:VEVENT
BEGIN:VEVENT
DTSTART;VALUE=DATE:20270712
DTEND;VALUE=DATE:20270713
DTSTAMP:20260423T043833
CREATED:20250618T093629Z
LAST-MODIFIED:20250618T093716Z
UID:10000543-1815350400-1815436799@blet104.org
SUMMARY:BOARD ADJUSTMENTS
DESCRIPTION:
URL:https://blet104.org/event/board-adjustments/2027-07-12/
END:VEVENT
BEGIN:VEVENT
DTSTART;VALUE=DATE:20270714
DTEND;VALUE=DATE:20270715
DTSTAMP:20260423T043833
CREATED:20250618T093708Z
LAST-MODIFIED:20250618T093708Z
UID:10000805-1815523200-1815609599@blet104.org
SUMMARY:VACATION AWARDS
DESCRIPTION:
URL:https://blet104.org/event/vacation-awards/2027-07-14/
END:VEVENT
BEGIN:VEVENT
DTSTART;TZID=America/Denver:20270714T101500
DTEND;TZID=America/Denver:20270714T170000
DTSTAMP:20260423T043833
CREATED:20250423T154210Z
LAST-MODIFIED:20250618T093439Z
UID:10000385-1815560100-1815584400@blet104.org
SUMMARY:REGULAR DIVISION 104 MEETING
DESCRIPTION:
URL:https://blet104.org/event/vestibulum-convallis-fermentum/2027-07-14/
END:VEVENT
BEGIN:VEVENT
DTSTART;VALUE=DATE:20270719
DTEND;VALUE=DATE:20270720
DTSTAMP:20260423T043833
CREATED:20250618T093629Z
LAST-MODIFIED:20250618T093716Z
UID:10000544-1815955200-1816041599@blet104.org
SUMMARY:BOARD ADJUSTMENTS
DESCRIPTION:
URL:https://blet104.org/event/board-adjustments/2027-07-19/
END:VEVENT
BEGIN:VEVENT
DTSTART;VALUE=DATE:20270721
DTEND;VALUE=DATE:20270722
DTSTAMP:20260423T043833
CREATED:20250618T093708Z
LAST-MODIFIED:20250618T093708Z
UID:10000806-1816128000-1816214399@blet104.org
SUMMARY:VACATION AWARDS
DESCRIPTION:
URL:https://blet104.org/event/vacation-awards/2027-07-21/
END:VEVENT
BEGIN:VEVENT
DTSTART;VALUE=DATE:20270726
DTEND;VALUE=DATE:20270727
DTSTAMP:20260423T043833
CREATED:20250618T093629Z
LAST-MODIFIED:20250618T093716Z
UID:10000545-1816560000-1816646399@blet104.org
SUMMARY:BOARD ADJUSTMENTS
DESCRIPTION:
URL:https://blet104.org/event/board-adjustments/2027-07-26/
END:VEVENT
BEGIN:VEVENT
DTSTART;VALUE=DATE:20270728
DTEND;VALUE=DATE:20270729
DTSTAMP:20260423T043833
CREATED:20250618T093708Z
LAST-MODIFIED:20250618T093708Z
UID:10000807-1816732800-1816819199@blet104.org
SUMMARY:VACATION AWARDS
DESCRIPTION:
URL:https://blet104.org/event/vacation-awards/2027-07-28/
END:VEVENT
BEGIN:VEVENT
DTSTART;VALUE=DATE:20270802
DTEND;VALUE=DATE:20270803
DTSTAMP:20260423T043833
CREATED:20250618T093629Z
LAST-MODIFIED:20250618T093716Z
UID:10000546-1817164800-1817251199@blet104.org
SUMMARY:BOARD ADJUSTMENTS
DESCRIPTION:
URL:https://blet104.org/event/board-adjustments/2027-08-02/
END:VEVENT
END:VCALENDAR