BEGIN:VCALENDAR
VERSION:2.0
PRODID:-//Brotherhood of Locomotive Engineers and Trainmen - ECPv6.15.20//NONSGML v1.0//EN
CALSCALE:GREGORIAN
METHOD:PUBLISH
X-WR-CALNAME:Brotherhood of Locomotive Engineers and Trainmen
X-ORIGINAL-URL:https://blet104.org
X-WR-CALDESC:Events for Brotherhood of Locomotive Engineers and Trainmen
REFRESH-INTERVAL;VALUE=DURATION:PT1H
X-Robots-Tag:noindex
X-PUBLISHED-TTL:PT1H
BEGIN:VTIMEZONE
TZID:America/Denver
BEGIN:DAYLIGHT
TZOFFSETFROM:-0700
TZOFFSETTO:-0600
TZNAME:MDT
DTSTART:20260308T090000
END:DAYLIGHT
BEGIN:STANDARD
TZOFFSETFROM:-0600
TZOFFSETTO:-0700
TZNAME:MST
DTSTART:20261101T080000
END:STANDARD
BEGIN:DAYLIGHT
TZOFFSETFROM:-0700
TZOFFSETTO:-0600
TZNAME:MDT
DTSTART:20270314T090000
END:DAYLIGHT
BEGIN:STANDARD
TZOFFSETFROM:-0600
TZOFFSETTO:-0700
TZNAME:MST
DTSTART:20271107T080000
END:STANDARD
BEGIN:DAYLIGHT
TZOFFSETFROM:-0700
TZOFFSETTO:-0600
TZNAME:MDT
DTSTART:20280312T090000
END:DAYLIGHT
BEGIN:STANDARD
TZOFFSETFROM:-0600
TZOFFSETTO:-0700
TZNAME:MST
DTSTART:20281105T080000
END:STANDARD
BEGIN:DAYLIGHT
TZOFFSETFROM:-0700
TZOFFSETTO:-0600
TZNAME:MDT
DTSTART:20290311T090000
END:DAYLIGHT
BEGIN:STANDARD
TZOFFSETFROM:-0600
TZOFFSETTO:-0700
TZNAME:MST
DTSTART:20291104T080000
END:STANDARD
END:VTIMEZONE
BEGIN:VEVENT
DTSTART;VALUE=DATE:20271018
DTEND;VALUE=DATE:20271019
DTSTAMP:20260423T120211
CREATED:20250618T093629Z
LAST-MODIFIED:20250618T093716Z
UID:10000557-1823817600-1823903999@blet104.org
SUMMARY:BOARD ADJUSTMENTS
DESCRIPTION:
URL:https://blet104.org/event/board-adjustments/2027-10-18/
END:VEVENT
BEGIN:VEVENT
DTSTART;VALUE=DATE:20271020
DTEND;VALUE=DATE:20271021
DTSTAMP:20260423T120211
CREATED:20250618T093708Z
LAST-MODIFIED:20250618T093708Z
UID:10000819-1823990400-1824076799@blet104.org
SUMMARY:VACATION AWARDS
DESCRIPTION:
URL:https://blet104.org/event/vacation-awards/2027-10-20/
END:VEVENT
BEGIN:VEVENT
DTSTART;VALUE=DATE:20271025
DTEND;VALUE=DATE:20271026
DTSTAMP:20260423T120211
CREATED:20250618T093629Z
LAST-MODIFIED:20250618T093716Z
UID:10000558-1824422400-1824508799@blet104.org
SUMMARY:BOARD ADJUSTMENTS
DESCRIPTION:
URL:https://blet104.org/event/board-adjustments/2027-10-25/
END:VEVENT
BEGIN:VEVENT
DTSTART;VALUE=DATE:20271027
DTEND;VALUE=DATE:20271028
DTSTAMP:20260423T120211
CREATED:20250618T093708Z
LAST-MODIFIED:20250618T093708Z
UID:10000820-1824595200-1824681599@blet104.org
SUMMARY:VACATION AWARDS
DESCRIPTION:
URL:https://blet104.org/event/vacation-awards/2027-10-27/
END:VEVENT
BEGIN:VEVENT
DTSTART;TZID=America/Denver:20271027T101500
DTEND;TZID=America/Denver:20271027T170000
DTSTAMP:20260423T120211
CREATED:20250423T154210Z
LAST-MODIFIED:20250618T093439Z
UID:10000390-1824632100-1824656400@blet104.org
SUMMARY:REGULAR DIVISION 104 MEETING
DESCRIPTION:
URL:https://blet104.org/event/vestibulum-convallis-fermentum/2027-10-27/
END:VEVENT
BEGIN:VEVENT
DTSTART;VALUE=DATE:20271101
DTEND;VALUE=DATE:20271102
DTSTAMP:20260423T120211
CREATED:20250618T093629Z
LAST-MODIFIED:20250618T093716Z
UID:10000559-1825027200-1825113599@blet104.org
SUMMARY:BOARD ADJUSTMENTS
DESCRIPTION:
URL:https://blet104.org/event/board-adjustments/2027-11-01/
END:VEVENT
BEGIN:VEVENT
DTSTART;VALUE=DATE:20271103
DTEND;VALUE=DATE:20271104
DTSTAMP:20260423T120211
CREATED:20250618T093708Z
LAST-MODIFIED:20250618T093708Z
UID:10000821-1825200000-1825286399@blet104.org
SUMMARY:VACATION AWARDS
DESCRIPTION:
URL:https://blet104.org/event/vacation-awards/2027-11-03/
END:VEVENT
BEGIN:VEVENT
DTSTART;VALUE=DATE:20271108
DTEND;VALUE=DATE:20271109
DTSTAMP:20260423T120211
CREATED:20250618T093629Z
LAST-MODIFIED:20250618T093716Z
UID:10000560-1825632000-1825718399@blet104.org
SUMMARY:BOARD ADJUSTMENTS
DESCRIPTION:
URL:https://blet104.org/event/board-adjustments/2027-11-08/
END:VEVENT
BEGIN:VEVENT
DTSTART;VALUE=DATE:20271110
DTEND;VALUE=DATE:20271111
DTSTAMP:20260423T120211
CREATED:20250618T093708Z
LAST-MODIFIED:20250618T093708Z
UID:10000822-1825804800-1825891199@blet104.org
SUMMARY:VACATION AWARDS
DESCRIPTION:
URL:https://blet104.org/event/vacation-awards/2027-11-10/
END:VEVENT
BEGIN:VEVENT
DTSTART;VALUE=DATE:20271115
DTEND;VALUE=DATE:20271116
DTSTAMP:20260423T120211
CREATED:20250618T093629Z
LAST-MODIFIED:20250618T093716Z
UID:10000561-1826236800-1826323199@blet104.org
SUMMARY:BOARD ADJUSTMENTS
DESCRIPTION:
URL:https://blet104.org/event/board-adjustments/2027-11-15/
END:VEVENT
BEGIN:VEVENT
DTSTART;VALUE=DATE:20271117
DTEND;VALUE=DATE:20271118
DTSTAMP:20260423T120211
CREATED:20250618T093708Z
LAST-MODIFIED:20250618T093708Z
UID:10000823-1826409600-1826495999@blet104.org
SUMMARY:VACATION AWARDS
DESCRIPTION:
URL:https://blet104.org/event/vacation-awards/2027-11-17/
END:VEVENT
BEGIN:VEVENT
DTSTART;TZID=America/Denver:20271117T101500
DTEND;TZID=America/Denver:20271117T170000
DTSTAMP:20260423T120211
CREATED:20250423T154210Z
LAST-MODIFIED:20250618T093439Z
UID:10000391-1826446500-1826470800@blet104.org
SUMMARY:REGULAR DIVISION 104 MEETING
DESCRIPTION:
URL:https://blet104.org/event/vestibulum-convallis-fermentum/2027-11-17/
END:VEVENT
BEGIN:VEVENT
DTSTART;VALUE=DATE:20271122
DTEND;VALUE=DATE:20271123
DTSTAMP:20260423T120211
CREATED:20250618T093629Z
LAST-MODIFIED:20250618T093716Z
UID:10000562-1826841600-1826927999@blet104.org
SUMMARY:BOARD ADJUSTMENTS
DESCRIPTION:
URL:https://blet104.org/event/board-adjustments/2027-11-22/
END:VEVENT
BEGIN:VEVENT
DTSTART;VALUE=DATE:20271124
DTEND;VALUE=DATE:20271125
DTSTAMP:20260423T120211
CREATED:20250618T093708Z
LAST-MODIFIED:20250618T093708Z
UID:10000824-1827014400-1827100799@blet104.org
SUMMARY:VACATION AWARDS
DESCRIPTION:
URL:https://blet104.org/event/vacation-awards/2027-11-24/
END:VEVENT
BEGIN:VEVENT
DTSTART;VALUE=DATE:20271129
DTEND;VALUE=DATE:20271130
DTSTAMP:20260423T120211
CREATED:20250618T093629Z
LAST-MODIFIED:20250618T093716Z
UID:10000563-1827446400-1827532799@blet104.org
SUMMARY:BOARD ADJUSTMENTS
DESCRIPTION:
URL:https://blet104.org/event/board-adjustments/2027-11-29/
END:VEVENT
BEGIN:VEVENT
DTSTART;VALUE=DATE:20271201
DTEND;VALUE=DATE:20271202
DTSTAMP:20260423T120211
CREATED:20250618T093708Z
LAST-MODIFIED:20250618T093708Z
UID:10000825-1827619200-1827705599@blet104.org
SUMMARY:VACATION AWARDS
DESCRIPTION:
URL:https://blet104.org/event/vacation-awards/2027-12-01/
END:VEVENT
BEGIN:VEVENT
DTSTART;VALUE=DATE:20271206
DTEND;VALUE=DATE:20271207
DTSTAMP:20260423T120212
CREATED:20250618T093629Z
LAST-MODIFIED:20250618T093716Z
UID:10000564-1828051200-1828137599@blet104.org
SUMMARY:BOARD ADJUSTMENTS
DESCRIPTION:
URL:https://blet104.org/event/board-adjustments/2027-12-06/
END:VEVENT
BEGIN:VEVENT
DTSTART;VALUE=DATE:20271208
DTEND;VALUE=DATE:20271209
DTSTAMP:20260423T120212
CREATED:20250618T093708Z
LAST-MODIFIED:20250618T093708Z
UID:10000826-1828224000-1828310399@blet104.org
SUMMARY:VACATION AWARDS
DESCRIPTION:
URL:https://blet104.org/event/vacation-awards/2027-12-08/
END:VEVENT
BEGIN:VEVENT
DTSTART;TZID=America/Denver:20271208T101500
DTEND;TZID=America/Denver:20271208T170000
DTSTAMP:20260423T120212
CREATED:20250423T154210Z
LAST-MODIFIED:20250618T093439Z
UID:10000392-1828260900-1828285200@blet104.org
SUMMARY:REGULAR DIVISION 104 MEETING
DESCRIPTION:
URL:https://blet104.org/event/vestibulum-convallis-fermentum/2027-12-08/
END:VEVENT
BEGIN:VEVENT
DTSTART;VALUE=DATE:20271213
DTEND;VALUE=DATE:20271214
DTSTAMP:20260423T120212
CREATED:20250618T093629Z
LAST-MODIFIED:20250618T093716Z
UID:10000565-1828656000-1828742399@blet104.org
SUMMARY:BOARD ADJUSTMENTS
DESCRIPTION:
URL:https://blet104.org/event/board-adjustments/2027-12-13/
END:VEVENT
BEGIN:VEVENT
DTSTART;VALUE=DATE:20271215
DTEND;VALUE=DATE:20271216
DTSTAMP:20260423T120212
CREATED:20250618T093708Z
LAST-MODIFIED:20250618T093708Z
UID:10000827-1828828800-1828915199@blet104.org
SUMMARY:VACATION AWARDS
DESCRIPTION:
URL:https://blet104.org/event/vacation-awards/2027-12-15/
END:VEVENT
BEGIN:VEVENT
DTSTART;VALUE=DATE:20271220
DTEND;VALUE=DATE:20271221
DTSTAMP:20260423T120212
CREATED:20250618T093629Z
LAST-MODIFIED:20250618T093716Z
UID:10000566-1829260800-1829347199@blet104.org
SUMMARY:BOARD ADJUSTMENTS
DESCRIPTION:
URL:https://blet104.org/event/board-adjustments/2027-12-20/
END:VEVENT
BEGIN:VEVENT
DTSTART;VALUE=DATE:20271222
DTEND;VALUE=DATE:20271223
DTSTAMP:20260423T120212
CREATED:20250618T093708Z
LAST-MODIFIED:20250618T093708Z
UID:10000828-1829433600-1829519999@blet104.org
SUMMARY:VACATION AWARDS
DESCRIPTION:
URL:https://blet104.org/event/vacation-awards/2027-12-22/
END:VEVENT
BEGIN:VEVENT
DTSTART;VALUE=DATE:20271227
DTEND;VALUE=DATE:20271228
DTSTAMP:20260423T120212
CREATED:20250618T093629Z
LAST-MODIFIED:20250618T093716Z
UID:10000567-1829865600-1829951999@blet104.org
SUMMARY:BOARD ADJUSTMENTS
DESCRIPTION:
URL:https://blet104.org/event/board-adjustments/2027-12-27/
END:VEVENT
BEGIN:VEVENT
DTSTART;VALUE=DATE:20271229
DTEND;VALUE=DATE:20271230
DTSTAMP:20260423T120212
CREATED:20250618T093708Z
LAST-MODIFIED:20250618T093708Z
UID:10000829-1830038400-1830124799@blet104.org
SUMMARY:VACATION AWARDS
DESCRIPTION:
URL:https://blet104.org/event/vacation-awards/2027-12-29/
END:VEVENT
BEGIN:VEVENT
DTSTART;TZID=America/Denver:20271229T101500
DTEND;TZID=America/Denver:20271229T170000
DTSTAMP:20260423T120212
CREATED:20250423T154210Z
LAST-MODIFIED:20250618T093439Z
UID:10000393-1830075300-1830099600@blet104.org
SUMMARY:REGULAR DIVISION 104 MEETING
DESCRIPTION:
URL:https://blet104.org/event/vestibulum-convallis-fermentum/2027-12-29/
END:VEVENT
BEGIN:VEVENT
DTSTART;VALUE=DATE:20280103
DTEND;VALUE=DATE:20280104
DTSTAMP:20260423T120212
CREATED:20250618T093629Z
LAST-MODIFIED:20250618T093716Z
UID:10000568-1830470400-1830556799@blet104.org
SUMMARY:BOARD ADJUSTMENTS
DESCRIPTION:
URL:https://blet104.org/event/board-adjustments/2028-01-03/
END:VEVENT
BEGIN:VEVENT
DTSTART;VALUE=DATE:20280105
DTEND;VALUE=DATE:20280106
DTSTAMP:20260423T120212
CREATED:20250618T093708Z
LAST-MODIFIED:20250618T093708Z
UID:10000830-1830643200-1830729599@blet104.org
SUMMARY:VACATION AWARDS
DESCRIPTION:
URL:https://blet104.org/event/vacation-awards/2028-01-05/
END:VEVENT
BEGIN:VEVENT
DTSTART;VALUE=DATE:20280110
DTEND;VALUE=DATE:20280111
DTSTAMP:20260423T120212
CREATED:20250618T093629Z
LAST-MODIFIED:20250618T093716Z
UID:10000569-1831075200-1831161599@blet104.org
SUMMARY:BOARD ADJUSTMENTS
DESCRIPTION:
URL:https://blet104.org/event/board-adjustments/2028-01-10/
END:VEVENT
BEGIN:VEVENT
DTSTART;VALUE=DATE:20280112
DTEND;VALUE=DATE:20280113
DTSTAMP:20260423T120212
CREATED:20250618T093708Z
LAST-MODIFIED:20250618T093708Z
UID:10000831-1831248000-1831334399@blet104.org
SUMMARY:VACATION AWARDS
DESCRIPTION:
URL:https://blet104.org/event/vacation-awards/2028-01-12/
END:VEVENT
END:VCALENDAR