BEGIN:VCALENDAR
VERSION:2.0
PRODID:-//Brotherhood of Locomotive Engineers and Trainmen - ECPv6.15.20//NONSGML v1.0//EN
CALSCALE:GREGORIAN
METHOD:PUBLISH
X-WR-CALNAME:Brotherhood of Locomotive Engineers and Trainmen
X-ORIGINAL-URL:https://blet104.org
X-WR-CALDESC:Events for Brotherhood of Locomotive Engineers and Trainmen
REFRESH-INTERVAL;VALUE=DURATION:PT1H
X-Robots-Tag:noindex
X-PUBLISHED-TTL:PT1H
BEGIN:VTIMEZONE
TZID:America/Denver
BEGIN:DAYLIGHT
TZOFFSETFROM:-0700
TZOFFSETTO:-0600
TZNAME:MDT
DTSTART:20260308T090000
END:DAYLIGHT
BEGIN:STANDARD
TZOFFSETFROM:-0600
TZOFFSETTO:-0700
TZNAME:MST
DTSTART:20261101T080000
END:STANDARD
BEGIN:DAYLIGHT
TZOFFSETFROM:-0700
TZOFFSETTO:-0600
TZNAME:MDT
DTSTART:20270314T090000
END:DAYLIGHT
BEGIN:STANDARD
TZOFFSETFROM:-0600
TZOFFSETTO:-0700
TZNAME:MST
DTSTART:20271107T080000
END:STANDARD
BEGIN:DAYLIGHT
TZOFFSETFROM:-0700
TZOFFSETTO:-0600
TZNAME:MDT
DTSTART:20280312T090000
END:DAYLIGHT
BEGIN:STANDARD
TZOFFSETFROM:-0600
TZOFFSETTO:-0700
TZNAME:MST
DTSTART:20281105T080000
END:STANDARD
END:VTIMEZONE
BEGIN:VEVENT
DTSTART;VALUE=DATE:20270825
DTEND;VALUE=DATE:20270826
DTSTAMP:20260423T170145
CREATED:20250618T093708Z
LAST-MODIFIED:20250618T093708Z
UID:10000811-1819152000-1819238399@blet104.org
SUMMARY:VACATION AWARDS
DESCRIPTION:
URL:https://blet104.org/event/vacation-awards/2027-08-25/
END:VEVENT
BEGIN:VEVENT
DTSTART;TZID=America/Denver:20270825T101500
DTEND;TZID=America/Denver:20270825T170000
DTSTAMP:20260423T170145
CREATED:20250423T154210Z
LAST-MODIFIED:20250618T093439Z
UID:10000387-1819188900-1819213200@blet104.org
SUMMARY:REGULAR DIVISION 104 MEETING
DESCRIPTION:
URL:https://blet104.org/event/vestibulum-convallis-fermentum/2027-08-25/
END:VEVENT
BEGIN:VEVENT
DTSTART;VALUE=DATE:20270830
DTEND;VALUE=DATE:20270831
DTSTAMP:20260423T170145
CREATED:20250618T093629Z
LAST-MODIFIED:20250618T093716Z
UID:10000550-1819584000-1819670399@blet104.org
SUMMARY:BOARD ADJUSTMENTS
DESCRIPTION:
URL:https://blet104.org/event/board-adjustments/2027-08-30/
END:VEVENT
BEGIN:VEVENT
DTSTART;VALUE=DATE:20270901
DTEND;VALUE=DATE:20270902
DTSTAMP:20260423T170145
CREATED:20250618T093708Z
LAST-MODIFIED:20250618T093708Z
UID:10000812-1819756800-1819843199@blet104.org
SUMMARY:VACATION AWARDS
DESCRIPTION:
URL:https://blet104.org/event/vacation-awards/2027-09-01/
END:VEVENT
BEGIN:VEVENT
DTSTART;VALUE=DATE:20270906
DTEND;VALUE=DATE:20270907
DTSTAMP:20260423T170145
CREATED:20250618T093629Z
LAST-MODIFIED:20250618T093716Z
UID:10000551-1820188800-1820275199@blet104.org
SUMMARY:BOARD ADJUSTMENTS
DESCRIPTION:
URL:https://blet104.org/event/board-adjustments/2027-09-06/
END:VEVENT
BEGIN:VEVENT
DTSTART;VALUE=DATE:20270908
DTEND;VALUE=DATE:20270909
DTSTAMP:20260423T170145
CREATED:20250618T093708Z
LAST-MODIFIED:20250618T093708Z
UID:10000813-1820361600-1820447999@blet104.org
SUMMARY:VACATION AWARDS
DESCRIPTION:
URL:https://blet104.org/event/vacation-awards/2027-09-08/
END:VEVENT
BEGIN:VEVENT
DTSTART;VALUE=DATE:20270913
DTEND;VALUE=DATE:20270914
DTSTAMP:20260423T170145
CREATED:20250618T093629Z
LAST-MODIFIED:20250618T093716Z
UID:10000552-1820793600-1820879999@blet104.org
SUMMARY:BOARD ADJUSTMENTS
DESCRIPTION:
URL:https://blet104.org/event/board-adjustments/2027-09-13/
END:VEVENT
BEGIN:VEVENT
DTSTART;VALUE=DATE:20270915
DTEND;VALUE=DATE:20270916
DTSTAMP:20260423T170145
CREATED:20250618T093708Z
LAST-MODIFIED:20250618T093708Z
UID:10000814-1820966400-1821052799@blet104.org
SUMMARY:VACATION AWARDS
DESCRIPTION:
URL:https://blet104.org/event/vacation-awards/2027-09-15/
END:VEVENT
BEGIN:VEVENT
DTSTART;TZID=America/Denver:20270915T101500
DTEND;TZID=America/Denver:20270915T170000
DTSTAMP:20260423T170145
CREATED:20250423T154210Z
LAST-MODIFIED:20250618T093439Z
UID:10000388-1821003300-1821027600@blet104.org
SUMMARY:REGULAR DIVISION 104 MEETING
DESCRIPTION:
URL:https://blet104.org/event/vestibulum-convallis-fermentum/2027-09-15/
END:VEVENT
BEGIN:VEVENT
DTSTART;VALUE=DATE:20270920
DTEND;VALUE=DATE:20270921
DTSTAMP:20260423T170145
CREATED:20250618T093629Z
LAST-MODIFIED:20250618T093716Z
UID:10000553-1821398400-1821484799@blet104.org
SUMMARY:BOARD ADJUSTMENTS
DESCRIPTION:
URL:https://blet104.org/event/board-adjustments/2027-09-20/
END:VEVENT
BEGIN:VEVENT
DTSTART;VALUE=DATE:20270922
DTEND;VALUE=DATE:20270923
DTSTAMP:20260423T170145
CREATED:20250618T093708Z
LAST-MODIFIED:20250618T093708Z
UID:10000815-1821571200-1821657599@blet104.org
SUMMARY:VACATION AWARDS
DESCRIPTION:
URL:https://blet104.org/event/vacation-awards/2027-09-22/
END:VEVENT
BEGIN:VEVENT
DTSTART;VALUE=DATE:20270927
DTEND;VALUE=DATE:20270928
DTSTAMP:20260423T170145
CREATED:20250618T093629Z
LAST-MODIFIED:20250618T093716Z
UID:10000554-1822003200-1822089599@blet104.org
SUMMARY:BOARD ADJUSTMENTS
DESCRIPTION:
URL:https://blet104.org/event/board-adjustments/2027-09-27/
END:VEVENT
BEGIN:VEVENT
DTSTART;VALUE=DATE:20270929
DTEND;VALUE=DATE:20270930
DTSTAMP:20260423T170146
CREATED:20250618T093708Z
LAST-MODIFIED:20250618T093708Z
UID:10000816-1822176000-1822262399@blet104.org
SUMMARY:VACATION AWARDS
DESCRIPTION:
URL:https://blet104.org/event/vacation-awards/2027-09-29/
END:VEVENT
BEGIN:VEVENT
DTSTART;VALUE=DATE:20271004
DTEND;VALUE=DATE:20271005
DTSTAMP:20260423T170146
CREATED:20250618T093629Z
LAST-MODIFIED:20250618T093716Z
UID:10000555-1822608000-1822694399@blet104.org
SUMMARY:BOARD ADJUSTMENTS
DESCRIPTION:
URL:https://blet104.org/event/board-adjustments/2027-10-04/
END:VEVENT
BEGIN:VEVENT
DTSTART;VALUE=DATE:20271006
DTEND;VALUE=DATE:20271007
DTSTAMP:20260423T170146
CREATED:20250618T093708Z
LAST-MODIFIED:20250618T093708Z
UID:10000817-1822780800-1822867199@blet104.org
SUMMARY:VACATION AWARDS
DESCRIPTION:
URL:https://blet104.org/event/vacation-awards/2027-10-06/
END:VEVENT
BEGIN:VEVENT
DTSTART;TZID=America/Denver:20271006T101500
DTEND;TZID=America/Denver:20271006T170000
DTSTAMP:20260423T170146
CREATED:20250423T154210Z
LAST-MODIFIED:20250618T093439Z
UID:10000389-1822817700-1822842000@blet104.org
SUMMARY:REGULAR DIVISION 104 MEETING
DESCRIPTION:
URL:https://blet104.org/event/vestibulum-convallis-fermentum/2027-10-06/
END:VEVENT
BEGIN:VEVENT
DTSTART;VALUE=DATE:20271011
DTEND;VALUE=DATE:20271012
DTSTAMP:20260423T170146
CREATED:20250618T093629Z
LAST-MODIFIED:20250618T093716Z
UID:10000556-1823212800-1823299199@blet104.org
SUMMARY:BOARD ADJUSTMENTS
DESCRIPTION:
URL:https://blet104.org/event/board-adjustments/2027-10-11/
END:VEVENT
BEGIN:VEVENT
DTSTART;VALUE=DATE:20271013
DTEND;VALUE=DATE:20271014
DTSTAMP:20260423T170146
CREATED:20250618T093708Z
LAST-MODIFIED:20250618T093708Z
UID:10000818-1823385600-1823471999@blet104.org
SUMMARY:VACATION AWARDS
DESCRIPTION:
URL:https://blet104.org/event/vacation-awards/2027-10-13/
END:VEVENT
BEGIN:VEVENT
DTSTART;VALUE=DATE:20271018
DTEND;VALUE=DATE:20271019
DTSTAMP:20260423T170146
CREATED:20250618T093629Z
LAST-MODIFIED:20250618T093716Z
UID:10000557-1823817600-1823903999@blet104.org
SUMMARY:BOARD ADJUSTMENTS
DESCRIPTION:
URL:https://blet104.org/event/board-adjustments/2027-10-18/
END:VEVENT
BEGIN:VEVENT
DTSTART;VALUE=DATE:20271020
DTEND;VALUE=DATE:20271021
DTSTAMP:20260423T170146
CREATED:20250618T093708Z
LAST-MODIFIED:20250618T093708Z
UID:10000819-1823990400-1824076799@blet104.org
SUMMARY:VACATION AWARDS
DESCRIPTION:
URL:https://blet104.org/event/vacation-awards/2027-10-20/
END:VEVENT
BEGIN:VEVENT
DTSTART;VALUE=DATE:20271025
DTEND;VALUE=DATE:20271026
DTSTAMP:20260423T170146
CREATED:20250618T093629Z
LAST-MODIFIED:20250618T093716Z
UID:10000558-1824422400-1824508799@blet104.org
SUMMARY:BOARD ADJUSTMENTS
DESCRIPTION:
URL:https://blet104.org/event/board-adjustments/2027-10-25/
END:VEVENT
BEGIN:VEVENT
DTSTART;VALUE=DATE:20271027
DTEND;VALUE=DATE:20271028
DTSTAMP:20260423T170146
CREATED:20250618T093708Z
LAST-MODIFIED:20250618T093708Z
UID:10000820-1824595200-1824681599@blet104.org
SUMMARY:VACATION AWARDS
DESCRIPTION:
URL:https://blet104.org/event/vacation-awards/2027-10-27/
END:VEVENT
BEGIN:VEVENT
DTSTART;TZID=America/Denver:20271027T101500
DTEND;TZID=America/Denver:20271027T170000
DTSTAMP:20260423T170146
CREATED:20250423T154210Z
LAST-MODIFIED:20250618T093439Z
UID:10000390-1824632100-1824656400@blet104.org
SUMMARY:REGULAR DIVISION 104 MEETING
DESCRIPTION:
URL:https://blet104.org/event/vestibulum-convallis-fermentum/2027-10-27/
END:VEVENT
BEGIN:VEVENT
DTSTART;VALUE=DATE:20271101
DTEND;VALUE=DATE:20271102
DTSTAMP:20260423T170146
CREATED:20250618T093629Z
LAST-MODIFIED:20250618T093716Z
UID:10000559-1825027200-1825113599@blet104.org
SUMMARY:BOARD ADJUSTMENTS
DESCRIPTION:
URL:https://blet104.org/event/board-adjustments/2027-11-01/
END:VEVENT
BEGIN:VEVENT
DTSTART;VALUE=DATE:20271103
DTEND;VALUE=DATE:20271104
DTSTAMP:20260423T170146
CREATED:20250618T093708Z
LAST-MODIFIED:20250618T093708Z
UID:10000821-1825200000-1825286399@blet104.org
SUMMARY:VACATION AWARDS
DESCRIPTION:
URL:https://blet104.org/event/vacation-awards/2027-11-03/
END:VEVENT
BEGIN:VEVENT
DTSTART;VALUE=DATE:20271108
DTEND;VALUE=DATE:20271109
DTSTAMP:20260423T170146
CREATED:20250618T093629Z
LAST-MODIFIED:20250618T093716Z
UID:10000560-1825632000-1825718399@blet104.org
SUMMARY:BOARD ADJUSTMENTS
DESCRIPTION:
URL:https://blet104.org/event/board-adjustments/2027-11-08/
END:VEVENT
BEGIN:VEVENT
DTSTART;VALUE=DATE:20271110
DTEND;VALUE=DATE:20271111
DTSTAMP:20260423T170146
CREATED:20250618T093708Z
LAST-MODIFIED:20250618T093708Z
UID:10000822-1825804800-1825891199@blet104.org
SUMMARY:VACATION AWARDS
DESCRIPTION:
URL:https://blet104.org/event/vacation-awards/2027-11-10/
END:VEVENT
BEGIN:VEVENT
DTSTART;VALUE=DATE:20271115
DTEND;VALUE=DATE:20271116
DTSTAMP:20260423T170146
CREATED:20250618T093629Z
LAST-MODIFIED:20250618T093716Z
UID:10000561-1826236800-1826323199@blet104.org
SUMMARY:BOARD ADJUSTMENTS
DESCRIPTION:
URL:https://blet104.org/event/board-adjustments/2027-11-15/
END:VEVENT
BEGIN:VEVENT
DTSTART;VALUE=DATE:20271117
DTEND;VALUE=DATE:20271118
DTSTAMP:20260423T170146
CREATED:20250618T093708Z
LAST-MODIFIED:20250618T093708Z
UID:10000823-1826409600-1826495999@blet104.org
SUMMARY:VACATION AWARDS
DESCRIPTION:
URL:https://blet104.org/event/vacation-awards/2027-11-17/
END:VEVENT
BEGIN:VEVENT
DTSTART;TZID=America/Denver:20271117T101500
DTEND;TZID=America/Denver:20271117T170000
DTSTAMP:20260423T170146
CREATED:20250423T154210Z
LAST-MODIFIED:20250618T093439Z
UID:10000391-1826446500-1826470800@blet104.org
SUMMARY:REGULAR DIVISION 104 MEETING
DESCRIPTION:
URL:https://blet104.org/event/vestibulum-convallis-fermentum/2027-11-17/
END:VEVENT
END:VCALENDAR