BEGIN:VCALENDAR
VERSION:2.0
PRODID:-//Brotherhood of Locomotive Engineers and Trainmen - ECPv6.15.20//NONSGML v1.0//EN
CALSCALE:GREGORIAN
METHOD:PUBLISH
X-WR-CALNAME:Brotherhood of Locomotive Engineers and Trainmen
X-ORIGINAL-URL:https://blet104.org
X-WR-CALDESC:Events for Brotherhood of Locomotive Engineers and Trainmen
REFRESH-INTERVAL;VALUE=DURATION:PT1H
X-Robots-Tag:noindex
X-PUBLISHED-TTL:PT1H
BEGIN:VTIMEZONE
TZID:America/Denver
BEGIN:DAYLIGHT
TZOFFSETFROM:-0700
TZOFFSETTO:-0600
TZNAME:MDT
DTSTART:20270314T090000
END:DAYLIGHT
BEGIN:STANDARD
TZOFFSETFROM:-0600
TZOFFSETTO:-0700
TZNAME:MST
DTSTART:20271107T080000
END:STANDARD
BEGIN:DAYLIGHT
TZOFFSETFROM:-0700
TZOFFSETTO:-0600
TZNAME:MDT
DTSTART:20280312T090000
END:DAYLIGHT
BEGIN:STANDARD
TZOFFSETFROM:-0600
TZOFFSETTO:-0700
TZNAME:MST
DTSTART:20281105T080000
END:STANDARD
BEGIN:DAYLIGHT
TZOFFSETFROM:-0700
TZOFFSETTO:-0600
TZNAME:MDT
DTSTART:20290311T090000
END:DAYLIGHT
BEGIN:STANDARD
TZOFFSETFROM:-0600
TZOFFSETTO:-0700
TZNAME:MST
DTSTART:20291104T080000
END:STANDARD
END:VTIMEZONE
BEGIN:VEVENT
DTSTART;VALUE=DATE:20280214
DTEND;VALUE=DATE:20280215
DTSTAMP:20260423T182854
CREATED:20250618T093629Z
LAST-MODIFIED:20250618T093716Z
UID:10000574-1834099200-1834185599@blet104.org
SUMMARY:BOARD ADJUSTMENTS
DESCRIPTION:
URL:https://blet104.org/event/board-adjustments/2028-02-14/
END:VEVENT
BEGIN:VEVENT
DTSTART;VALUE=DATE:20280216
DTEND;VALUE=DATE:20280217
DTSTAMP:20260423T182854
CREATED:20250618T093708Z
LAST-MODIFIED:20250618T093708Z
UID:10000836-1834272000-1834358399@blet104.org
SUMMARY:VACATION AWARDS
DESCRIPTION:
URL:https://blet104.org/event/vacation-awards/2028-02-16/
END:VEVENT
BEGIN:VEVENT
DTSTART;VALUE=DATE:20280221
DTEND;VALUE=DATE:20280222
DTSTAMP:20260423T182854
CREATED:20250618T093629Z
LAST-MODIFIED:20250618T093716Z
UID:10000575-1834704000-1834790399@blet104.org
SUMMARY:BOARD ADJUSTMENTS
DESCRIPTION:
URL:https://blet104.org/event/board-adjustments/2028-02-21/
END:VEVENT
BEGIN:VEVENT
DTSTART;VALUE=DATE:20280223
DTEND;VALUE=DATE:20280224
DTSTAMP:20260423T182854
CREATED:20250618T093708Z
LAST-MODIFIED:20250618T093708Z
UID:10000837-1834876800-1834963199@blet104.org
SUMMARY:VACATION AWARDS
DESCRIPTION:
URL:https://blet104.org/event/vacation-awards/2028-02-23/
END:VEVENT
BEGIN:VEVENT
DTSTART;VALUE=DATE:20280228
DTEND;VALUE=DATE:20280229
DTSTAMP:20260423T182854
CREATED:20250618T093629Z
LAST-MODIFIED:20250618T093716Z
UID:10000576-1835308800-1835395199@blet104.org
SUMMARY:BOARD ADJUSTMENTS
DESCRIPTION:
URL:https://blet104.org/event/board-adjustments/2028-02-28/
END:VEVENT
BEGIN:VEVENT
DTSTART;VALUE=DATE:20280301
DTEND;VALUE=DATE:20280302
DTSTAMP:20260423T182854
CREATED:20250618T093708Z
LAST-MODIFIED:20250618T093708Z
UID:10000838-1835481600-1835567999@blet104.org
SUMMARY:VACATION AWARDS
DESCRIPTION:
URL:https://blet104.org/event/vacation-awards/2028-03-01/
END:VEVENT
BEGIN:VEVENT
DTSTART;TZID=America/Denver:20280301T101500
DTEND;TZID=America/Denver:20280301T170000
DTSTAMP:20260423T182854
CREATED:20250423T154210Z
LAST-MODIFIED:20250618T093439Z
UID:10000396-1835518500-1835542800@blet104.org
SUMMARY:REGULAR DIVISION 104 MEETING
DESCRIPTION:
URL:https://blet104.org/event/vestibulum-convallis-fermentum/2028-03-01/
END:VEVENT
BEGIN:VEVENT
DTSTART;VALUE=DATE:20280306
DTEND;VALUE=DATE:20280307
DTSTAMP:20260423T182854
CREATED:20250618T093629Z
LAST-MODIFIED:20250618T093716Z
UID:10000577-1835913600-1835999999@blet104.org
SUMMARY:BOARD ADJUSTMENTS
DESCRIPTION:
URL:https://blet104.org/event/board-adjustments/2028-03-06/
END:VEVENT
BEGIN:VEVENT
DTSTART;VALUE=DATE:20280308
DTEND;VALUE=DATE:20280309
DTSTAMP:20260423T182854
CREATED:20250618T093708Z
LAST-MODIFIED:20250618T093708Z
UID:10000839-1836086400-1836172799@blet104.org
SUMMARY:VACATION AWARDS
DESCRIPTION:
URL:https://blet104.org/event/vacation-awards/2028-03-08/
END:VEVENT
BEGIN:VEVENT
DTSTART;VALUE=DATE:20280313
DTEND;VALUE=DATE:20280314
DTSTAMP:20260423T182854
CREATED:20250618T093629Z
LAST-MODIFIED:20250618T093716Z
UID:10000578-1836518400-1836604799@blet104.org
SUMMARY:BOARD ADJUSTMENTS
DESCRIPTION:
URL:https://blet104.org/event/board-adjustments/2028-03-13/
END:VEVENT
BEGIN:VEVENT
DTSTART;VALUE=DATE:20280315
DTEND;VALUE=DATE:20280316
DTSTAMP:20260423T182854
CREATED:20250618T093708Z
LAST-MODIFIED:20250618T093708Z
UID:10000840-1836691200-1836777599@blet104.org
SUMMARY:VACATION AWARDS
DESCRIPTION:
URL:https://blet104.org/event/vacation-awards/2028-03-15/
END:VEVENT
BEGIN:VEVENT
DTSTART;VALUE=DATE:20280320
DTEND;VALUE=DATE:20280321
DTSTAMP:20260423T182854
CREATED:20250618T093629Z
LAST-MODIFIED:20250618T093716Z
UID:10000579-1837123200-1837209599@blet104.org
SUMMARY:BOARD ADJUSTMENTS
DESCRIPTION:
URL:https://blet104.org/event/board-adjustments/2028-03-20/
END:VEVENT
BEGIN:VEVENT
DTSTART;VALUE=DATE:20280322
DTEND;VALUE=DATE:20280323
DTSTAMP:20260423T182854
CREATED:20250618T093708Z
LAST-MODIFIED:20250618T093708Z
UID:10000841-1837296000-1837382399@blet104.org
SUMMARY:VACATION AWARDS
DESCRIPTION:
URL:https://blet104.org/event/vacation-awards/2028-03-22/
END:VEVENT
BEGIN:VEVENT
DTSTART;TZID=America/Denver:20280322T101500
DTEND;TZID=America/Denver:20280322T170000
DTSTAMP:20260423T182854
CREATED:20250423T154210Z
LAST-MODIFIED:20250618T093439Z
UID:10000397-1837332900-1837357200@blet104.org
SUMMARY:REGULAR DIVISION 104 MEETING
DESCRIPTION:
URL:https://blet104.org/event/vestibulum-convallis-fermentum/2028-03-22/
END:VEVENT
BEGIN:VEVENT
DTSTART;VALUE=DATE:20280327
DTEND;VALUE=DATE:20280328
DTSTAMP:20260423T182854
CREATED:20250618T093629Z
LAST-MODIFIED:20250618T093716Z
UID:10000580-1837728000-1837814399@blet104.org
SUMMARY:BOARD ADJUSTMENTS
DESCRIPTION:
URL:https://blet104.org/event/board-adjustments/2028-03-27/
END:VEVENT
BEGIN:VEVENT
DTSTART;VALUE=DATE:20280329
DTEND;VALUE=DATE:20280330
DTSTAMP:20260423T182854
CREATED:20250618T093708Z
LAST-MODIFIED:20250618T093708Z
UID:10000842-1837900800-1837987199@blet104.org
SUMMARY:VACATION AWARDS
DESCRIPTION:
URL:https://blet104.org/event/vacation-awards/2028-03-29/
END:VEVENT
BEGIN:VEVENT
DTSTART;VALUE=DATE:20280403
DTEND;VALUE=DATE:20280404
DTSTAMP:20260423T182854
CREATED:20250618T093629Z
LAST-MODIFIED:20250618T093716Z
UID:10000581-1838332800-1838419199@blet104.org
SUMMARY:BOARD ADJUSTMENTS
DESCRIPTION:
URL:https://blet104.org/event/board-adjustments/2028-04-03/
END:VEVENT
BEGIN:VEVENT
DTSTART;VALUE=DATE:20280405
DTEND;VALUE=DATE:20280406
DTSTAMP:20260423T182854
CREATED:20250618T093708Z
LAST-MODIFIED:20250618T093708Z
UID:10000843-1838505600-1838591999@blet104.org
SUMMARY:VACATION AWARDS
DESCRIPTION:
URL:https://blet104.org/event/vacation-awards/2028-04-05/
END:VEVENT
BEGIN:VEVENT
DTSTART;VALUE=DATE:20280410
DTEND;VALUE=DATE:20280411
DTSTAMP:20260423T182854
CREATED:20250618T093629Z
LAST-MODIFIED:20250618T093716Z
UID:10000582-1838937600-1839023999@blet104.org
SUMMARY:BOARD ADJUSTMENTS
DESCRIPTION:
URL:https://blet104.org/event/board-adjustments/2028-04-10/
END:VEVENT
BEGIN:VEVENT
DTSTART;VALUE=DATE:20280412
DTEND;VALUE=DATE:20280413
DTSTAMP:20260423T182854
CREATED:20250618T093708Z
LAST-MODIFIED:20250618T093708Z
UID:10000844-1839110400-1839196799@blet104.org
SUMMARY:VACATION AWARDS
DESCRIPTION:
URL:https://blet104.org/event/vacation-awards/2028-04-12/
END:VEVENT
BEGIN:VEVENT
DTSTART;TZID=America/Denver:20280412T101500
DTEND;TZID=America/Denver:20280412T170000
DTSTAMP:20260423T182854
CREATED:20250423T154210Z
LAST-MODIFIED:20250618T093439Z
UID:10000398-1839147300-1839171600@blet104.org
SUMMARY:REGULAR DIVISION 104 MEETING
DESCRIPTION:
URL:https://blet104.org/event/vestibulum-convallis-fermentum/2028-04-12/
END:VEVENT
BEGIN:VEVENT
DTSTART;VALUE=DATE:20280417
DTEND;VALUE=DATE:20280418
DTSTAMP:20260423T182854
CREATED:20250618T093629Z
LAST-MODIFIED:20250618T093716Z
UID:10000583-1839542400-1839628799@blet104.org
SUMMARY:BOARD ADJUSTMENTS
DESCRIPTION:
URL:https://blet104.org/event/board-adjustments/2028-04-17/
END:VEVENT
BEGIN:VEVENT
DTSTART;VALUE=DATE:20280419
DTEND;VALUE=DATE:20280420
DTSTAMP:20260423T182854
CREATED:20250618T093708Z
LAST-MODIFIED:20250618T093708Z
UID:10000845-1839715200-1839801599@blet104.org
SUMMARY:VACATION AWARDS
DESCRIPTION:
URL:https://blet104.org/event/vacation-awards/2028-04-19/
END:VEVENT
BEGIN:VEVENT
DTSTART;VALUE=DATE:20280424
DTEND;VALUE=DATE:20280425
DTSTAMP:20260423T182854
CREATED:20250618T093629Z
LAST-MODIFIED:20250618T093716Z
UID:10000584-1840147200-1840233599@blet104.org
SUMMARY:BOARD ADJUSTMENTS
DESCRIPTION:
URL:https://blet104.org/event/board-adjustments/2028-04-24/
END:VEVENT
BEGIN:VEVENT
DTSTART;VALUE=DATE:20280426
DTEND;VALUE=DATE:20280427
DTSTAMP:20260423T182854
CREATED:20250618T093708Z
LAST-MODIFIED:20250618T093708Z
UID:10000846-1840320000-1840406399@blet104.org
SUMMARY:VACATION AWARDS
DESCRIPTION:
URL:https://blet104.org/event/vacation-awards/2028-04-26/
END:VEVENT
BEGIN:VEVENT
DTSTART;VALUE=DATE:20280501
DTEND;VALUE=DATE:20280502
DTSTAMP:20260423T182854
CREATED:20250618T093629Z
LAST-MODIFIED:20250618T093716Z
UID:10000585-1840752000-1840838399@blet104.org
SUMMARY:BOARD ADJUSTMENTS
DESCRIPTION:
URL:https://blet104.org/event/board-adjustments/2028-05-01/
END:VEVENT
BEGIN:VEVENT
DTSTART;VALUE=DATE:20280503
DTEND;VALUE=DATE:20280504
DTSTAMP:20260423T182854
CREATED:20250618T093708Z
LAST-MODIFIED:20250618T093708Z
UID:10000847-1840924800-1841011199@blet104.org
SUMMARY:VACATION AWARDS
DESCRIPTION:
URL:https://blet104.org/event/vacation-awards/2028-05-03/
END:VEVENT
BEGIN:VEVENT
DTSTART;TZID=America/Denver:20280503T101500
DTEND;TZID=America/Denver:20280503T170000
DTSTAMP:20260423T182854
CREATED:20250423T154210Z
LAST-MODIFIED:20250618T093439Z
UID:10000399-1840961700-1840986000@blet104.org
SUMMARY:REGULAR DIVISION 104 MEETING
DESCRIPTION:
URL:https://blet104.org/event/vestibulum-convallis-fermentum/2028-05-03/
END:VEVENT
BEGIN:VEVENT
DTSTART;VALUE=DATE:20280508
DTEND;VALUE=DATE:20280509
DTSTAMP:20260423T182854
CREATED:20250618T093629Z
LAST-MODIFIED:20250618T093716Z
UID:10000586-1841356800-1841443199@blet104.org
SUMMARY:BOARD ADJUSTMENTS
DESCRIPTION:
URL:https://blet104.org/event/board-adjustments/2028-05-08/
END:VEVENT
BEGIN:VEVENT
DTSTART;VALUE=DATE:20280510
DTEND;VALUE=DATE:20280511
DTSTAMP:20260423T182854
CREATED:20250618T093708Z
LAST-MODIFIED:20250618T093708Z
UID:10000848-1841529600-1841615999@blet104.org
SUMMARY:VACATION AWARDS
DESCRIPTION:
URL:https://blet104.org/event/vacation-awards/2028-05-10/
END:VEVENT
END:VCALENDAR