BEGIN:VCALENDAR
VERSION:2.0
PRODID:-//Brotherhood of Locomotive Engineers and Trainmen - ECPv6.15.20//NONSGML v1.0//EN
CALSCALE:GREGORIAN
METHOD:PUBLISH
X-ORIGINAL-URL:https://blet104.org
X-WR-CALDESC:Events for Brotherhood of Locomotive Engineers and Trainmen
REFRESH-INTERVAL;VALUE=DURATION:PT1H
X-Robots-Tag:noindex
X-PUBLISHED-TTL:PT1H
BEGIN:VTIMEZONE
TZID:America/Denver
BEGIN:DAYLIGHT
TZOFFSETFROM:-0700
TZOFFSETTO:-0600
TZNAME:MDT
DTSTART:20270314T090000
END:DAYLIGHT
BEGIN:STANDARD
TZOFFSETFROM:-0600
TZOFFSETTO:-0700
TZNAME:MST
DTSTART:20271107T080000
END:STANDARD
BEGIN:DAYLIGHT
TZOFFSETFROM:-0700
TZOFFSETTO:-0600
TZNAME:MDT
DTSTART:20280312T090000
END:DAYLIGHT
BEGIN:STANDARD
TZOFFSETFROM:-0600
TZOFFSETTO:-0700
TZNAME:MST
DTSTART:20281105T080000
END:STANDARD
BEGIN:DAYLIGHT
TZOFFSETFROM:-0700
TZOFFSETTO:-0600
TZNAME:MDT
DTSTART:20290311T090000
END:DAYLIGHT
BEGIN:STANDARD
TZOFFSETFROM:-0600
TZOFFSETTO:-0700
TZNAME:MST
DTSTART:20291104T080000
END:STANDARD
END:VTIMEZONE
BEGIN:VEVENT
DTSTART;VALUE=DATE:20280712
DTEND;VALUE=DATE:20280713
DTSTAMP:20260424T030244
CREATED:20250618T093708Z
LAST-MODIFIED:20250618T093708Z
UID:10000857-1846972800-1847059199@blet104.org
SUMMARY:VACATION AWARDS
DESCRIPTION:
URL:https://blet104.org/event/vacation-awards/2028-07-12/
END:VEVENT
BEGIN:VEVENT
DTSTART;VALUE=DATE:20280717
DTEND;VALUE=DATE:20280718
DTSTAMP:20260424T030244
CREATED:20250618T093629Z
LAST-MODIFIED:20250618T093716Z
UID:10000596-1847404800-1847491199@blet104.org
SUMMARY:BOARD ADJUSTMENTS
DESCRIPTION:
URL:https://blet104.org/event/board-adjustments/2028-07-17/
END:VEVENT
BEGIN:VEVENT
DTSTART;VALUE=DATE:20280719
DTEND;VALUE=DATE:20280720
DTSTAMP:20260424T030244
CREATED:20250618T093708Z
LAST-MODIFIED:20250618T093708Z
UID:10000858-1847577600-1847663999@blet104.org
SUMMARY:VACATION AWARDS
DESCRIPTION:
URL:https://blet104.org/event/vacation-awards/2028-07-19/
END:VEVENT
BEGIN:VEVENT
DTSTART;VALUE=DATE:20280724
DTEND;VALUE=DATE:20280725
DTSTAMP:20260424T030244
CREATED:20250618T093629Z
LAST-MODIFIED:20250618T093716Z
UID:10000597-1848009600-1848095999@blet104.org
SUMMARY:BOARD ADJUSTMENTS
DESCRIPTION:
URL:https://blet104.org/event/board-adjustments/2028-07-24/
END:VEVENT
BEGIN:VEVENT
DTSTART;VALUE=DATE:20280726
DTEND;VALUE=DATE:20280727
DTSTAMP:20260424T030244
CREATED:20250618T093708Z
LAST-MODIFIED:20250618T093708Z
UID:10000859-1848182400-1848268799@blet104.org
SUMMARY:VACATION AWARDS
DESCRIPTION:
URL:https://blet104.org/event/vacation-awards/2028-07-26/
END:VEVENT
BEGIN:VEVENT
DTSTART;TZID=America/Denver:20280726T101500
DTEND;TZID=America/Denver:20280726T170000
DTSTAMP:20260424T030244
CREATED:20250423T154210Z
LAST-MODIFIED:20250618T093439Z
UID:10000403-1848219300-1848243600@blet104.org
SUMMARY:REGULAR DIVISION 104 MEETING
DESCRIPTION:
URL:https://blet104.org/event/vestibulum-convallis-fermentum/2028-07-26/
END:VEVENT
BEGIN:VEVENT
DTSTART;VALUE=DATE:20280731
DTEND;VALUE=DATE:20280801
DTSTAMP:20260424T030244
CREATED:20250618T093629Z
LAST-MODIFIED:20250618T093716Z
UID:10000598-1848614400-1848700799@blet104.org
SUMMARY:BOARD ADJUSTMENTS
DESCRIPTION:
URL:https://blet104.org/event/board-adjustments/2028-07-31/
END:VEVENT
BEGIN:VEVENT
DTSTART;VALUE=DATE:20280802
DTEND;VALUE=DATE:20280803
DTSTAMP:20260424T030244
CREATED:20250618T093708Z
LAST-MODIFIED:20250618T093708Z
UID:10000860-1848787200-1848873599@blet104.org
SUMMARY:VACATION AWARDS
DESCRIPTION:
URL:https://blet104.org/event/vacation-awards/2028-08-02/
END:VEVENT
BEGIN:VEVENT
DTSTART;VALUE=DATE:20280807
DTEND;VALUE=DATE:20280808
DTSTAMP:20260424T030244
CREATED:20250618T093629Z
LAST-MODIFIED:20250618T093716Z
UID:10000599-1849219200-1849305599@blet104.org
SUMMARY:BOARD ADJUSTMENTS
DESCRIPTION:
URL:https://blet104.org/event/board-adjustments/2028-08-07/
END:VEVENT
BEGIN:VEVENT
DTSTART;VALUE=DATE:20280809
DTEND;VALUE=DATE:20280810
DTSTAMP:20260424T030244
CREATED:20250618T093708Z
LAST-MODIFIED:20250618T093708Z
UID:10000861-1849392000-1849478399@blet104.org
SUMMARY:VACATION AWARDS
DESCRIPTION:
URL:https://blet104.org/event/vacation-awards/2028-08-09/
END:VEVENT
BEGIN:VEVENT
DTSTART;VALUE=DATE:20280814
DTEND;VALUE=DATE:20280815
DTSTAMP:20260424T030244
CREATED:20250618T093629Z
LAST-MODIFIED:20250618T093716Z
UID:10000600-1849824000-1849910399@blet104.org
SUMMARY:BOARD ADJUSTMENTS
DESCRIPTION:
URL:https://blet104.org/event/board-adjustments/2028-08-14/
END:VEVENT
BEGIN:VEVENT
DTSTART;VALUE=DATE:20280816
DTEND;VALUE=DATE:20280817
DTSTAMP:20260424T030244
CREATED:20250618T093708Z
LAST-MODIFIED:20250618T093708Z
UID:10000862-1849996800-1850083199@blet104.org
SUMMARY:VACATION AWARDS
DESCRIPTION:
URL:https://blet104.org/event/vacation-awards/2028-08-16/
END:VEVENT
BEGIN:VEVENT
DTSTART;TZID=America/Denver:20280816T101500
DTEND;TZID=America/Denver:20280816T170000
DTSTAMP:20260424T030244
CREATED:20250423T154210Z
LAST-MODIFIED:20250618T093439Z
UID:10000404-1850033700-1850058000@blet104.org
SUMMARY:REGULAR DIVISION 104 MEETING
DESCRIPTION:
URL:https://blet104.org/event/vestibulum-convallis-fermentum/2028-08-16/
END:VEVENT
BEGIN:VEVENT
DTSTART;VALUE=DATE:20280821
DTEND;VALUE=DATE:20280822
DTSTAMP:20260424T030244
CREATED:20250618T093629Z
LAST-MODIFIED:20250618T093716Z
UID:10000601-1850428800-1850515199@blet104.org
SUMMARY:BOARD ADJUSTMENTS
DESCRIPTION:
URL:https://blet104.org/event/board-adjustments/2028-08-21/
END:VEVENT
BEGIN:VEVENT
DTSTART;VALUE=DATE:20280823
DTEND;VALUE=DATE:20280824
DTSTAMP:20260424T030244
CREATED:20250618T093708Z
LAST-MODIFIED:20250618T093708Z
UID:10000863-1850601600-1850687999@blet104.org
SUMMARY:VACATION AWARDS
DESCRIPTION:
URL:https://blet104.org/event/vacation-awards/2028-08-23/
END:VEVENT
BEGIN:VEVENT
DTSTART;VALUE=DATE:20280828
DTEND;VALUE=DATE:20280829
DTSTAMP:20260424T030244
CREATED:20250618T093629Z
LAST-MODIFIED:20250618T093716Z
UID:10000602-1851033600-1851119999@blet104.org
SUMMARY:BOARD ADJUSTMENTS
DESCRIPTION:
URL:https://blet104.org/event/board-adjustments/2028-08-28/
END:VEVENT
BEGIN:VEVENT
DTSTART;VALUE=DATE:20280830
DTEND;VALUE=DATE:20280831
DTSTAMP:20260424T030244
CREATED:20250618T093708Z
LAST-MODIFIED:20250618T093708Z
UID:10000864-1851206400-1851292799@blet104.org
SUMMARY:VACATION AWARDS
DESCRIPTION:
URL:https://blet104.org/event/vacation-awards/2028-08-30/
END:VEVENT
BEGIN:VEVENT
DTSTART;VALUE=DATE:20280904
DTEND;VALUE=DATE:20280905
DTSTAMP:20260424T030244
CREATED:20250618T093629Z
LAST-MODIFIED:20250618T093716Z
UID:10000603-1851638400-1851724799@blet104.org
SUMMARY:BOARD ADJUSTMENTS
DESCRIPTION:
URL:https://blet104.org/event/board-adjustments/2028-09-04/
END:VEVENT
BEGIN:VEVENT
DTSTART;VALUE=DATE:20280906
DTEND;VALUE=DATE:20280907
DTSTAMP:20260424T030244
CREATED:20250618T093708Z
LAST-MODIFIED:20250618T093708Z
UID:10000865-1851811200-1851897599@blet104.org
SUMMARY:VACATION AWARDS
DESCRIPTION:
URL:https://blet104.org/event/vacation-awards/2028-09-06/
END:VEVENT
BEGIN:VEVENT
DTSTART;TZID=America/Denver:20280906T101500
DTEND;TZID=America/Denver:20280906T170000
DTSTAMP:20260424T030244
CREATED:20250423T154210Z
LAST-MODIFIED:20250618T093439Z
UID:10000405-1851848100-1851872400@blet104.org
SUMMARY:REGULAR DIVISION 104 MEETING
DESCRIPTION:
URL:https://blet104.org/event/vestibulum-convallis-fermentum/2028-09-06/
END:VEVENT
BEGIN:VEVENT
DTSTART;VALUE=DATE:20280911
DTEND;VALUE=DATE:20280912
DTSTAMP:20260424T030244
CREATED:20250618T093629Z
LAST-MODIFIED:20250618T093716Z
UID:10000604-1852243200-1852329599@blet104.org
SUMMARY:BOARD ADJUSTMENTS
DESCRIPTION:
URL:https://blet104.org/event/board-adjustments/2028-09-11/
END:VEVENT
BEGIN:VEVENT
DTSTART;VALUE=DATE:20280913
DTEND;VALUE=DATE:20280914
DTSTAMP:20260424T030244
CREATED:20250618T093708Z
LAST-MODIFIED:20250618T093708Z
UID:10000866-1852416000-1852502399@blet104.org
SUMMARY:VACATION AWARDS
DESCRIPTION:
URL:https://blet104.org/event/vacation-awards/2028-09-13/
END:VEVENT
BEGIN:VEVENT
DTSTART;VALUE=DATE:20280918
DTEND;VALUE=DATE:20280919
DTSTAMP:20260424T030244
CREATED:20250618T093629Z
LAST-MODIFIED:20250618T093716Z
UID:10000605-1852848000-1852934399@blet104.org
SUMMARY:BOARD ADJUSTMENTS
DESCRIPTION:
URL:https://blet104.org/event/board-adjustments/2028-09-18/
END:VEVENT
BEGIN:VEVENT
DTSTART;VALUE=DATE:20280920
DTEND;VALUE=DATE:20280921
DTSTAMP:20260424T030244
CREATED:20250618T093708Z
LAST-MODIFIED:20250618T093708Z
UID:10000867-1853020800-1853107199@blet104.org
SUMMARY:VACATION AWARDS
DESCRIPTION:
URL:https://blet104.org/event/vacation-awards/2028-09-20/
END:VEVENT
BEGIN:VEVENT
DTSTART;VALUE=DATE:20280925
DTEND;VALUE=DATE:20280926
DTSTAMP:20260424T030244
CREATED:20250618T093629Z
LAST-MODIFIED:20250618T093716Z
UID:10000606-1853452800-1853539199@blet104.org
SUMMARY:BOARD ADJUSTMENTS
DESCRIPTION:
URL:https://blet104.org/event/board-adjustments/2028-09-25/
END:VEVENT
BEGIN:VEVENT
DTSTART;VALUE=DATE:20280927
DTEND;VALUE=DATE:20280928
DTSTAMP:20260424T030244
CREATED:20250618T093708Z
LAST-MODIFIED:20250618T093708Z
UID:10000868-1853625600-1853711999@blet104.org
SUMMARY:VACATION AWARDS
DESCRIPTION:
URL:https://blet104.org/event/vacation-awards/2028-09-27/
END:VEVENT
BEGIN:VEVENT
DTSTART;TZID=America/Denver:20280927T101500
DTEND;TZID=America/Denver:20280927T170000
DTSTAMP:20260424T030244
CREATED:20250423T154210Z
LAST-MODIFIED:20250618T093439Z
UID:10000406-1853662500-1853686800@blet104.org
SUMMARY:REGULAR DIVISION 104 MEETING
DESCRIPTION:
URL:https://blet104.org/event/vestibulum-convallis-fermentum/2028-09-27/
END:VEVENT
BEGIN:VEVENT
DTSTART;VALUE=DATE:20281002
DTEND;VALUE=DATE:20281003
DTSTAMP:20260424T030244
CREATED:20250618T093629Z
LAST-MODIFIED:20250618T093716Z
UID:10000607-1854057600-1854143999@blet104.org
SUMMARY:BOARD ADJUSTMENTS
DESCRIPTION:
URL:https://blet104.org/event/board-adjustments/2028-10-02/
END:VEVENT
BEGIN:VEVENT
DTSTART;VALUE=DATE:20281004
DTEND;VALUE=DATE:20281005
DTSTAMP:20260424T030244
CREATED:20250618T093708Z
LAST-MODIFIED:20250618T093708Z
UID:10000869-1854230400-1854316799@blet104.org
SUMMARY:VACATION AWARDS
DESCRIPTION:
URL:https://blet104.org/event/vacation-awards/2028-10-04/
END:VEVENT
BEGIN:VEVENT
DTSTART;VALUE=DATE:20281009
DTEND;VALUE=DATE:20281010
DTSTAMP:20260424T030244
CREATED:20250618T093629Z
LAST-MODIFIED:20250618T093716Z
UID:10000608-1854662400-1854748799@blet104.org
SUMMARY:BOARD ADJUSTMENTS
DESCRIPTION:
URL:https://blet104.org/event/board-adjustments/2028-10-09/
END:VEVENT
END:VCALENDAR