BEGIN:VCALENDAR
VERSION:2.0
PRODID:-//Brotherhood of Locomotive Engineers and Trainmen - ECPv6.15.20//NONSGML v1.0//EN
CALSCALE:GREGORIAN
METHOD:PUBLISH
X-ORIGINAL-URL:https://blet104.org
X-WR-CALDESC:Events for Brotherhood of Locomotive Engineers and Trainmen
REFRESH-INTERVAL;VALUE=DURATION:PT1H
X-Robots-Tag:noindex
X-PUBLISHED-TTL:PT1H
BEGIN:VTIMEZONE
TZID:America/Denver
BEGIN:DAYLIGHT
TZOFFSETFROM:-0700
TZOFFSETTO:-0600
TZNAME:MDT
DTSTART:20250309T090000
END:DAYLIGHT
BEGIN:STANDARD
TZOFFSETFROM:-0600
TZOFFSETTO:-0700
TZNAME:MST
DTSTART:20251102T080000
END:STANDARD
BEGIN:DAYLIGHT
TZOFFSETFROM:-0700
TZOFFSETTO:-0600
TZNAME:MDT
DTSTART:20260308T090000
END:DAYLIGHT
BEGIN:STANDARD
TZOFFSETFROM:-0600
TZOFFSETTO:-0700
TZNAME:MST
DTSTART:20261101T080000
END:STANDARD
BEGIN:DAYLIGHT
TZOFFSETFROM:-0700
TZOFFSETTO:-0600
TZNAME:MDT
DTSTART:20270314T090000
END:DAYLIGHT
BEGIN:STANDARD
TZOFFSETFROM:-0600
TZOFFSETTO:-0700
TZNAME:MST
DTSTART:20271107T080000
END:STANDARD
END:VTIMEZONE
BEGIN:VEVENT
DTSTART;TZID=America/Denver:20260429T101500
DTEND;TZID=America/Denver:20260429T170000
DTSTAMP:20260422T162829
CREATED:20250423T154210Z
LAST-MODIFIED:20250618T093439Z
UID:10000364-1777457700-1777482000@blet104.org
SUMMARY:REGULAR DIVISION 104 MEETING
DESCRIPTION:
URL:https://blet104.org/event/vestibulum-convallis-fermentum/2026-04-29/
END:VEVENT
BEGIN:VEVENT
DTSTART;VALUE=DATE:20260504
DTEND;VALUE=DATE:20260505
DTSTAMP:20260422T162829
CREATED:20250618T093629Z
LAST-MODIFIED:20250618T093716Z
UID:10000481-1777852800-1777939199@blet104.org
SUMMARY:BOARD ADJUSTMENTS
DESCRIPTION:
URL:https://blet104.org/event/board-adjustments/2026-05-04/
END:VEVENT
BEGIN:VEVENT
DTSTART;VALUE=DATE:20260506
DTEND;VALUE=DATE:20260507
DTSTAMP:20260422T162829
CREATED:20250618T093708Z
LAST-MODIFIED:20250618T093708Z
UID:10000743-1778025600-1778111999@blet104.org
SUMMARY:VACATION AWARDS
DESCRIPTION:
URL:https://blet104.org/event/vacation-awards/2026-05-06/
END:VEVENT
BEGIN:VEVENT
DTSTART;VALUE=DATE:20260511
DTEND;VALUE=DATE:20260512
DTSTAMP:20260422T162829
CREATED:20250618T093629Z
LAST-MODIFIED:20250618T093716Z
UID:10000482-1778457600-1778543999@blet104.org
SUMMARY:BOARD ADJUSTMENTS
DESCRIPTION:
URL:https://blet104.org/event/board-adjustments/2026-05-11/
END:VEVENT
BEGIN:VEVENT
DTSTART;VALUE=DATE:20260513
DTEND;VALUE=DATE:20260514
DTSTAMP:20260422T162829
CREATED:20250618T093708Z
LAST-MODIFIED:20250618T093708Z
UID:10000744-1778630400-1778716799@blet104.org
SUMMARY:VACATION AWARDS
DESCRIPTION:
URL:https://blet104.org/event/vacation-awards/2026-05-13/
END:VEVENT
BEGIN:VEVENT
DTSTART;VALUE=DATE:20260518
DTEND;VALUE=DATE:20260519
DTSTAMP:20260422T162829
CREATED:20250618T093629Z
LAST-MODIFIED:20250618T093716Z
UID:10000483-1779062400-1779148799@blet104.org
SUMMARY:BOARD ADJUSTMENTS
DESCRIPTION:
URL:https://blet104.org/event/board-adjustments/2026-05-18/
END:VEVENT
BEGIN:VEVENT
DTSTART;VALUE=DATE:20260520
DTEND;VALUE=DATE:20260521
DTSTAMP:20260422T162829
CREATED:20250618T093708Z
LAST-MODIFIED:20250618T093708Z
UID:10000745-1779235200-1779321599@blet104.org
SUMMARY:VACATION AWARDS
DESCRIPTION:
URL:https://blet104.org/event/vacation-awards/2026-05-20/
END:VEVENT
BEGIN:VEVENT
DTSTART;TZID=America/Denver:20260520T101500
DTEND;TZID=America/Denver:20260520T170000
DTSTAMP:20260422T162829
CREATED:20250423T154210Z
LAST-MODIFIED:20250618T093439Z
UID:10000365-1779272100-1779296400@blet104.org
SUMMARY:REGULAR DIVISION 104 MEETING
DESCRIPTION:
URL:https://blet104.org/event/vestibulum-convallis-fermentum/2026-05-20/
END:VEVENT
BEGIN:VEVENT
DTSTART;VALUE=DATE:20260525
DTEND;VALUE=DATE:20260526
DTSTAMP:20260422T162829
CREATED:20250618T093629Z
LAST-MODIFIED:20250618T093716Z
UID:10000484-1779667200-1779753599@blet104.org
SUMMARY:BOARD ADJUSTMENTS
DESCRIPTION:
URL:https://blet104.org/event/board-adjustments/2026-05-25/
END:VEVENT
BEGIN:VEVENT
DTSTART;VALUE=DATE:20260527
DTEND;VALUE=DATE:20260528
DTSTAMP:20260422T162829
CREATED:20250618T093708Z
LAST-MODIFIED:20250618T093708Z
UID:10000746-1779840000-1779926399@blet104.org
SUMMARY:VACATION AWARDS
DESCRIPTION:
URL:https://blet104.org/event/vacation-awards/2026-05-27/
END:VEVENT
BEGIN:VEVENT
DTSTART;VALUE=DATE:20260601
DTEND;VALUE=DATE:20260602
DTSTAMP:20260422T162829
CREATED:20250618T093629Z
LAST-MODIFIED:20250618T093716Z
UID:10000485-1780272000-1780358399@blet104.org
SUMMARY:BOARD ADJUSTMENTS
DESCRIPTION:
URL:https://blet104.org/event/board-adjustments/2026-06-01/
END:VEVENT
BEGIN:VEVENT
DTSTART;VALUE=DATE:20260603
DTEND;VALUE=DATE:20260604
DTSTAMP:20260422T162829
CREATED:20250618T093708Z
LAST-MODIFIED:20250618T093708Z
UID:10000747-1780444800-1780531199@blet104.org
SUMMARY:VACATION AWARDS
DESCRIPTION:
URL:https://blet104.org/event/vacation-awards/2026-06-03/
END:VEVENT
BEGIN:VEVENT
DTSTART;VALUE=DATE:20260608
DTEND;VALUE=DATE:20260609
DTSTAMP:20260422T162829
CREATED:20250618T093629Z
LAST-MODIFIED:20250618T093716Z
UID:10000486-1780876800-1780963199@blet104.org
SUMMARY:BOARD ADJUSTMENTS
DESCRIPTION:
URL:https://blet104.org/event/board-adjustments/2026-06-08/
END:VEVENT
BEGIN:VEVENT
DTSTART;VALUE=DATE:20260610
DTEND;VALUE=DATE:20260611
DTSTAMP:20260422T162829
CREATED:20250618T093708Z
LAST-MODIFIED:20250618T093708Z
UID:10000748-1781049600-1781135999@blet104.org
SUMMARY:VACATION AWARDS
DESCRIPTION:
URL:https://blet104.org/event/vacation-awards/2026-06-10/
END:VEVENT
BEGIN:VEVENT
DTSTART;TZID=America/Denver:20260610T101500
DTEND;TZID=America/Denver:20260610T170000
DTSTAMP:20260422T162829
CREATED:20250423T154210Z
LAST-MODIFIED:20250618T093439Z
UID:10000366-1781086500-1781110800@blet104.org
SUMMARY:REGULAR DIVISION 104 MEETING
DESCRIPTION:
URL:https://blet104.org/event/vestibulum-convallis-fermentum/2026-06-10/
END:VEVENT
BEGIN:VEVENT
DTSTART;VALUE=DATE:20260615
DTEND;VALUE=DATE:20260616
DTSTAMP:20260422T162829
CREATED:20250618T093629Z
LAST-MODIFIED:20250618T093716Z
UID:10000487-1781481600-1781567999@blet104.org
SUMMARY:BOARD ADJUSTMENTS
DESCRIPTION:
URL:https://blet104.org/event/board-adjustments/2026-06-15/
END:VEVENT
BEGIN:VEVENT
DTSTART;VALUE=DATE:20260617
DTEND;VALUE=DATE:20260618
DTSTAMP:20260422T162829
CREATED:20250618T093708Z
LAST-MODIFIED:20250618T093708Z
UID:10000749-1781654400-1781740799@blet104.org
SUMMARY:VACATION AWARDS
DESCRIPTION:
URL:https://blet104.org/event/vacation-awards/2026-06-17/
END:VEVENT
BEGIN:VEVENT
DTSTART;VALUE=DATE:20260622
DTEND;VALUE=DATE:20260623
DTSTAMP:20260422T162829
CREATED:20250618T093629Z
LAST-MODIFIED:20250618T093716Z
UID:10000488-1782086400-1782172799@blet104.org
SUMMARY:BOARD ADJUSTMENTS
DESCRIPTION:
URL:https://blet104.org/event/board-adjustments/2026-06-22/
END:VEVENT
BEGIN:VEVENT
DTSTART;VALUE=DATE:20260624
DTEND;VALUE=DATE:20260625
DTSTAMP:20260422T162829
CREATED:20250618T093708Z
LAST-MODIFIED:20250618T093708Z
UID:10000750-1782259200-1782345599@blet104.org
SUMMARY:VACATION AWARDS
DESCRIPTION:
URL:https://blet104.org/event/vacation-awards/2026-06-24/
END:VEVENT
BEGIN:VEVENT
DTSTART;VALUE=DATE:20260629
DTEND;VALUE=DATE:20260630
DTSTAMP:20260422T162829
CREATED:20250618T093629Z
LAST-MODIFIED:20250618T093716Z
UID:10000489-1782691200-1782777599@blet104.org
SUMMARY:BOARD ADJUSTMENTS
DESCRIPTION:
URL:https://blet104.org/event/board-adjustments/2026-06-29/
END:VEVENT
BEGIN:VEVENT
DTSTART;VALUE=DATE:20260701
DTEND;VALUE=DATE:20260702
DTSTAMP:20260422T162829
CREATED:20250618T093708Z
LAST-MODIFIED:20250618T093708Z
UID:10000751-1782864000-1782950399@blet104.org
SUMMARY:VACATION AWARDS
DESCRIPTION:
URL:https://blet104.org/event/vacation-awards/2026-07-01/
END:VEVENT
BEGIN:VEVENT
DTSTART;TZID=America/Denver:20260701T101500
DTEND;TZID=America/Denver:20260701T170000
DTSTAMP:20260422T162829
CREATED:20250423T154210Z
LAST-MODIFIED:20250618T093439Z
UID:10000367-1782900900-1782925200@blet104.org
SUMMARY:REGULAR DIVISION 104 MEETING
DESCRIPTION:
URL:https://blet104.org/event/vestibulum-convallis-fermentum/2026-07-01/
END:VEVENT
BEGIN:VEVENT
DTSTART;VALUE=DATE:20260706
DTEND;VALUE=DATE:20260707
DTSTAMP:20260422T162829
CREATED:20250618T093629Z
LAST-MODIFIED:20250618T093716Z
UID:10000490-1783296000-1783382399@blet104.org
SUMMARY:BOARD ADJUSTMENTS
DESCRIPTION:
URL:https://blet104.org/event/board-adjustments/2026-07-06/
END:VEVENT
BEGIN:VEVENT
DTSTART;VALUE=DATE:20260708
DTEND;VALUE=DATE:20260709
DTSTAMP:20260422T162829
CREATED:20250618T093708Z
LAST-MODIFIED:20250618T093708Z
UID:10000752-1783468800-1783555199@blet104.org
SUMMARY:VACATION AWARDS
DESCRIPTION:
URL:https://blet104.org/event/vacation-awards/2026-07-08/
END:VEVENT
BEGIN:VEVENT
DTSTART;VALUE=DATE:20260713
DTEND;VALUE=DATE:20260714
DTSTAMP:20260422T162829
CREATED:20250618T093629Z
LAST-MODIFIED:20250618T093716Z
UID:10000491-1783900800-1783987199@blet104.org
SUMMARY:BOARD ADJUSTMENTS
DESCRIPTION:
URL:https://blet104.org/event/board-adjustments/2026-07-13/
END:VEVENT
BEGIN:VEVENT
DTSTART;VALUE=DATE:20260715
DTEND;VALUE=DATE:20260716
DTSTAMP:20260422T162829
CREATED:20250618T093708Z
LAST-MODIFIED:20250618T093708Z
UID:10000753-1784073600-1784159999@blet104.org
SUMMARY:VACATION AWARDS
DESCRIPTION:
URL:https://blet104.org/event/vacation-awards/2026-07-15/
END:VEVENT
BEGIN:VEVENT
DTSTART;VALUE=DATE:20260720
DTEND;VALUE=DATE:20260721
DTSTAMP:20260422T162829
CREATED:20250618T093629Z
LAST-MODIFIED:20250618T093716Z
UID:10000492-1784505600-1784591999@blet104.org
SUMMARY:BOARD ADJUSTMENTS
DESCRIPTION:
URL:https://blet104.org/event/board-adjustments/2026-07-20/
END:VEVENT
BEGIN:VEVENT
DTSTART;VALUE=DATE:20260722
DTEND;VALUE=DATE:20260723
DTSTAMP:20260422T162829
CREATED:20250618T093708Z
LAST-MODIFIED:20250618T093708Z
UID:10000754-1784678400-1784764799@blet104.org
SUMMARY:VACATION AWARDS
DESCRIPTION:
URL:https://blet104.org/event/vacation-awards/2026-07-22/
END:VEVENT
BEGIN:VEVENT
DTSTART;TZID=America/Denver:20260722T101500
DTEND;TZID=America/Denver:20260722T170000
DTSTAMP:20260422T162829
CREATED:20250423T154210Z
LAST-MODIFIED:20250618T093439Z
UID:10000368-1784715300-1784739600@blet104.org
SUMMARY:REGULAR DIVISION 104 MEETING
DESCRIPTION:
URL:https://blet104.org/event/vestibulum-convallis-fermentum/2026-07-22/
END:VEVENT
BEGIN:VEVENT
DTSTART;VALUE=DATE:20260727
DTEND;VALUE=DATE:20260728
DTSTAMP:20260422T162829
CREATED:20250618T093629Z
LAST-MODIFIED:20250618T093716Z
UID:10000493-1785110400-1785196799@blet104.org
SUMMARY:BOARD ADJUSTMENTS
DESCRIPTION:
URL:https://blet104.org/event/board-adjustments/2026-07-27/
END:VEVENT
END:VCALENDAR