BEGIN:VCALENDAR
VERSION:2.0
PRODID:-//Brotherhood of Locomotive Engineers and Trainmen - ECPv6.15.20//NONSGML v1.0//EN
CALSCALE:GREGORIAN
METHOD:PUBLISH
X-ORIGINAL-URL:https://blet104.org
X-WR-CALDESC:Events for Brotherhood of Locomotive Engineers and Trainmen
REFRESH-INTERVAL;VALUE=DURATION:PT1H
X-Robots-Tag:noindex
X-PUBLISHED-TTL:PT1H
BEGIN:VTIMEZONE
TZID:America/Denver
BEGIN:DAYLIGHT
TZOFFSETFROM:-0700
TZOFFSETTO:-0600
TZNAME:MDT
DTSTART:20270314T090000
END:DAYLIGHT
BEGIN:STANDARD
TZOFFSETFROM:-0600
TZOFFSETTO:-0700
TZNAME:MST
DTSTART:20271107T080000
END:STANDARD
BEGIN:DAYLIGHT
TZOFFSETFROM:-0700
TZOFFSETTO:-0600
TZNAME:MDT
DTSTART:20280312T090000
END:DAYLIGHT
BEGIN:STANDARD
TZOFFSETFROM:-0600
TZOFFSETTO:-0700
TZNAME:MST
DTSTART:20281105T080000
END:STANDARD
BEGIN:DAYLIGHT
TZOFFSETFROM:-0700
TZOFFSETTO:-0600
TZNAME:MDT
DTSTART:20290311T090000
END:DAYLIGHT
BEGIN:STANDARD
TZOFFSETFROM:-0600
TZOFFSETTO:-0700
TZNAME:MST
DTSTART:20291104T080000
END:STANDARD
BEGIN:DAYLIGHT
TZOFFSETFROM:-0700
TZOFFSETTO:-0600
TZNAME:MDT
DTSTART:20300310T090000
END:DAYLIGHT
BEGIN:STANDARD
TZOFFSETFROM:-0600
TZOFFSETTO:-0700
TZNAME:MST
DTSTART:20301103T080000
END:STANDARD
END:VTIMEZONE
BEGIN:VEVENT
DTSTART;TZID=America/Denver:20281108T101500
DTEND;TZID=America/Denver:20281108T170000
DTSTAMP:20260424T093041
CREATED:20250423T154210Z
LAST-MODIFIED:20250618T093439Z
UID:10000408-1857291300-1857315600@blet104.org
SUMMARY:REGULAR DIVISION 104 MEETING
DESCRIPTION:
URL:https://blet104.org/event/vestibulum-convallis-fermentum/2028-11-08/
END:VEVENT
BEGIN:VEVENT
DTSTART;VALUE=DATE:20281113
DTEND;VALUE=DATE:20281114
DTSTAMP:20260424T093041
CREATED:20250618T093629Z
LAST-MODIFIED:20250618T093716Z
UID:10000613-1857686400-1857772799@blet104.org
SUMMARY:BOARD ADJUSTMENTS
DESCRIPTION:
URL:https://blet104.org/event/board-adjustments/2028-11-13/
END:VEVENT
BEGIN:VEVENT
DTSTART;VALUE=DATE:20281115
DTEND;VALUE=DATE:20281116
DTSTAMP:20260424T093041
CREATED:20250618T093708Z
LAST-MODIFIED:20250618T093708Z
UID:10000875-1857859200-1857945599@blet104.org
SUMMARY:VACATION AWARDS
DESCRIPTION:
URL:https://blet104.org/event/vacation-awards/2028-11-15/
END:VEVENT
BEGIN:VEVENT
DTSTART;VALUE=DATE:20281120
DTEND;VALUE=DATE:20281121
DTSTAMP:20260424T093041
CREATED:20250618T093629Z
LAST-MODIFIED:20250618T093716Z
UID:10000614-1858291200-1858377599@blet104.org
SUMMARY:BOARD ADJUSTMENTS
DESCRIPTION:
URL:https://blet104.org/event/board-adjustments/2028-11-20/
END:VEVENT
BEGIN:VEVENT
DTSTART;VALUE=DATE:20281122
DTEND;VALUE=DATE:20281123
DTSTAMP:20260424T093041
CREATED:20250618T093708Z
LAST-MODIFIED:20250618T093708Z
UID:10000876-1858464000-1858550399@blet104.org
SUMMARY:VACATION AWARDS
DESCRIPTION:
URL:https://blet104.org/event/vacation-awards/2028-11-22/
END:VEVENT
BEGIN:VEVENT
DTSTART;VALUE=DATE:20281127
DTEND;VALUE=DATE:20281128
DTSTAMP:20260424T093041
CREATED:20250618T093629Z
LAST-MODIFIED:20250618T093716Z
UID:10000615-1858896000-1858982399@blet104.org
SUMMARY:BOARD ADJUSTMENTS
DESCRIPTION:
URL:https://blet104.org/event/board-adjustments/2028-11-27/
END:VEVENT
BEGIN:VEVENT
DTSTART;VALUE=DATE:20281129
DTEND;VALUE=DATE:20281130
DTSTAMP:20260424T093041
CREATED:20250618T093708Z
LAST-MODIFIED:20250618T093708Z
UID:10000877-1859068800-1859155199@blet104.org
SUMMARY:VACATION AWARDS
DESCRIPTION:
URL:https://blet104.org/event/vacation-awards/2028-11-29/
END:VEVENT
BEGIN:VEVENT
DTSTART;TZID=America/Denver:20281129T101500
DTEND;TZID=America/Denver:20281129T170000
DTSTAMP:20260424T093041
CREATED:20250423T154210Z
LAST-MODIFIED:20250618T093439Z
UID:10000409-1859105700-1859130000@blet104.org
SUMMARY:REGULAR DIVISION 104 MEETING
DESCRIPTION:
URL:https://blet104.org/event/vestibulum-convallis-fermentum/2028-11-29/
END:VEVENT
BEGIN:VEVENT
DTSTART;VALUE=DATE:20281204
DTEND;VALUE=DATE:20281205
DTSTAMP:20260424T093041
CREATED:20250618T093629Z
LAST-MODIFIED:20250618T093716Z
UID:10000616-1859500800-1859587199@blet104.org
SUMMARY:BOARD ADJUSTMENTS
DESCRIPTION:
URL:https://blet104.org/event/board-adjustments/2028-12-04/
END:VEVENT
BEGIN:VEVENT
DTSTART;VALUE=DATE:20281206
DTEND;VALUE=DATE:20281207
DTSTAMP:20260424T093041
CREATED:20250618T093708Z
LAST-MODIFIED:20250618T093708Z
UID:10000878-1859673600-1859759999@blet104.org
SUMMARY:VACATION AWARDS
DESCRIPTION:
URL:https://blet104.org/event/vacation-awards/2028-12-06/
END:VEVENT
BEGIN:VEVENT
DTSTART;VALUE=DATE:20281211
DTEND;VALUE=DATE:20281212
DTSTAMP:20260424T093041
CREATED:20250618T093629Z
LAST-MODIFIED:20250618T093716Z
UID:10000617-1860105600-1860191999@blet104.org
SUMMARY:BOARD ADJUSTMENTS
DESCRIPTION:
URL:https://blet104.org/event/board-adjustments/2028-12-11/
END:VEVENT
BEGIN:VEVENT
DTSTART;VALUE=DATE:20281213
DTEND;VALUE=DATE:20281214
DTSTAMP:20260424T093041
CREATED:20250618T093708Z
LAST-MODIFIED:20250618T093708Z
UID:10000879-1860278400-1860364799@blet104.org
SUMMARY:VACATION AWARDS
DESCRIPTION:
URL:https://blet104.org/event/vacation-awards/2028-12-13/
END:VEVENT
BEGIN:VEVENT
DTSTART;VALUE=DATE:20281218
DTEND;VALUE=DATE:20281219
DTSTAMP:20260424T093041
CREATED:20250618T093629Z
LAST-MODIFIED:20250618T093716Z
UID:10000618-1860710400-1860796799@blet104.org
SUMMARY:BOARD ADJUSTMENTS
DESCRIPTION:
URL:https://blet104.org/event/board-adjustments/2028-12-18/
END:VEVENT
BEGIN:VEVENT
DTSTART;VALUE=DATE:20281220
DTEND;VALUE=DATE:20281221
DTSTAMP:20260424T093041
CREATED:20250618T093708Z
LAST-MODIFIED:20250618T093708Z
UID:10000880-1860883200-1860969599@blet104.org
SUMMARY:VACATION AWARDS
DESCRIPTION:
URL:https://blet104.org/event/vacation-awards/2028-12-20/
END:VEVENT
BEGIN:VEVENT
DTSTART;TZID=America/Denver:20281220T101500
DTEND;TZID=America/Denver:20281220T170000
DTSTAMP:20260424T093041
CREATED:20250423T154210Z
LAST-MODIFIED:20250618T093439Z
UID:10000410-1860920100-1860944400@blet104.org
SUMMARY:REGULAR DIVISION 104 MEETING
DESCRIPTION:
URL:https://blet104.org/event/vestibulum-convallis-fermentum/2028-12-20/
END:VEVENT
BEGIN:VEVENT
DTSTART;VALUE=DATE:20281225
DTEND;VALUE=DATE:20281226
DTSTAMP:20260424T093041
CREATED:20250618T093629Z
LAST-MODIFIED:20250618T093716Z
UID:10000619-1861315200-1861401599@blet104.org
SUMMARY:BOARD ADJUSTMENTS
DESCRIPTION:
URL:https://blet104.org/event/board-adjustments/2028-12-25/
END:VEVENT
BEGIN:VEVENT
DTSTART;VALUE=DATE:20281227
DTEND;VALUE=DATE:20281228
DTSTAMP:20260424T093041
CREATED:20250618T093708Z
LAST-MODIFIED:20250618T093708Z
UID:10000881-1861488000-1861574399@blet104.org
SUMMARY:VACATION AWARDS
DESCRIPTION:
URL:https://blet104.org/event/vacation-awards/2028-12-27/
END:VEVENT
BEGIN:VEVENT
DTSTART;VALUE=DATE:20290101
DTEND;VALUE=DATE:20290102
DTSTAMP:20260424T093041
CREATED:20250618T093629Z
LAST-MODIFIED:20250618T093716Z
UID:10000620-1861920000-1862006399@blet104.org
SUMMARY:BOARD ADJUSTMENTS
DESCRIPTION:
URL:https://blet104.org/event/board-adjustments/2029-01-01/
END:VEVENT
BEGIN:VEVENT
DTSTART;VALUE=DATE:20290103
DTEND;VALUE=DATE:20290104
DTSTAMP:20260424T093041
CREATED:20250618T093708Z
LAST-MODIFIED:20250618T093708Z
UID:10000882-1862092800-1862179199@blet104.org
SUMMARY:VACATION AWARDS
DESCRIPTION:
URL:https://blet104.org/event/vacation-awards/2029-01-03/
END:VEVENT
BEGIN:VEVENT
DTSTART;VALUE=DATE:20290108
DTEND;VALUE=DATE:20290109
DTSTAMP:20260424T093041
CREATED:20250618T093629Z
LAST-MODIFIED:20250618T093716Z
UID:10000621-1862524800-1862611199@blet104.org
SUMMARY:BOARD ADJUSTMENTS
DESCRIPTION:
URL:https://blet104.org/event/board-adjustments/2029-01-08/
END:VEVENT
BEGIN:VEVENT
DTSTART;VALUE=DATE:20290110
DTEND;VALUE=DATE:20290111
DTSTAMP:20260424T093041
CREATED:20250618T093708Z
LAST-MODIFIED:20250618T093708Z
UID:10000883-1862697600-1862783999@blet104.org
SUMMARY:VACATION AWARDS
DESCRIPTION:
URL:https://blet104.org/event/vacation-awards/2029-01-10/
END:VEVENT
BEGIN:VEVENT
DTSTART;TZID=America/Denver:20290110T101500
DTEND;TZID=America/Denver:20290110T170000
DTSTAMP:20260424T093041
CREATED:20250423T154210Z
LAST-MODIFIED:20250618T093439Z
UID:10000411-1862734500-1862758800@blet104.org
SUMMARY:REGULAR DIVISION 104 MEETING
DESCRIPTION:
URL:https://blet104.org/event/vestibulum-convallis-fermentum/2029-01-10/
END:VEVENT
BEGIN:VEVENT
DTSTART;VALUE=DATE:20290115
DTEND;VALUE=DATE:20290116
DTSTAMP:20260424T093041
CREATED:20250618T093629Z
LAST-MODIFIED:20250618T093716Z
UID:10000622-1863129600-1863215999@blet104.org
SUMMARY:BOARD ADJUSTMENTS
DESCRIPTION:
URL:https://blet104.org/event/board-adjustments/2029-01-15/
END:VEVENT
BEGIN:VEVENT
DTSTART;VALUE=DATE:20290117
DTEND;VALUE=DATE:20290118
DTSTAMP:20260424T093041
CREATED:20250618T093708Z
LAST-MODIFIED:20250618T093708Z
UID:10000884-1863302400-1863388799@blet104.org
SUMMARY:VACATION AWARDS
DESCRIPTION:
URL:https://blet104.org/event/vacation-awards/2029-01-17/
END:VEVENT
BEGIN:VEVENT
DTSTART;VALUE=DATE:20290122
DTEND;VALUE=DATE:20290123
DTSTAMP:20260424T093041
CREATED:20250618T093629Z
LAST-MODIFIED:20250618T093716Z
UID:10000623-1863734400-1863820799@blet104.org
SUMMARY:BOARD ADJUSTMENTS
DESCRIPTION:
URL:https://blet104.org/event/board-adjustments/2029-01-22/
END:VEVENT
BEGIN:VEVENT
DTSTART;VALUE=DATE:20290124
DTEND;VALUE=DATE:20290125
DTSTAMP:20260424T093041
CREATED:20250618T093708Z
LAST-MODIFIED:20250618T093708Z
UID:10000885-1863907200-1863993599@blet104.org
SUMMARY:VACATION AWARDS
DESCRIPTION:
URL:https://blet104.org/event/vacation-awards/2029-01-24/
END:VEVENT
BEGIN:VEVENT
DTSTART;VALUE=DATE:20290129
DTEND;VALUE=DATE:20290130
DTSTAMP:20260424T093041
CREATED:20250618T093629Z
LAST-MODIFIED:20250618T093716Z
UID:10000624-1864339200-1864425599@blet104.org
SUMMARY:BOARD ADJUSTMENTS
DESCRIPTION:
URL:https://blet104.org/event/board-adjustments/2029-01-29/
END:VEVENT
BEGIN:VEVENT
DTSTART;VALUE=DATE:20290131
DTEND;VALUE=DATE:20290201
DTSTAMP:20260424T093041
CREATED:20250618T093708Z
LAST-MODIFIED:20250618T093708Z
UID:10000886-1864512000-1864598399@blet104.org
SUMMARY:VACATION AWARDS
DESCRIPTION:
URL:https://blet104.org/event/vacation-awards/2029-01-31/
END:VEVENT
BEGIN:VEVENT
DTSTART;TZID=America/Denver:20290131T101500
DTEND;TZID=America/Denver:20290131T170000
DTSTAMP:20260424T093041
CREATED:20250423T154210Z
LAST-MODIFIED:20250618T093439Z
UID:10000412-1864548900-1864573200@blet104.org
SUMMARY:REGULAR DIVISION 104 MEETING
DESCRIPTION:
URL:https://blet104.org/event/vestibulum-convallis-fermentum/2029-01-31/
END:VEVENT
BEGIN:VEVENT
DTSTART;VALUE=DATE:20290205
DTEND;VALUE=DATE:20290206
DTSTAMP:20260424T093041
CREATED:20250618T093629Z
LAST-MODIFIED:20250618T093716Z
UID:10000625-1864944000-1865030399@blet104.org
SUMMARY:BOARD ADJUSTMENTS
DESCRIPTION:
URL:https://blet104.org/event/board-adjustments/2029-02-05/
END:VEVENT
END:VCALENDAR