BEGIN:VCALENDAR
VERSION:2.0
PRODID:-//Brotherhood of Locomotive Engineers and Trainmen - ECPv6.15.20//NONSGML v1.0//EN
CALSCALE:GREGORIAN
METHOD:PUBLISH
X-ORIGINAL-URL:https://blet104.org
X-WR-CALDESC:Events for Brotherhood of Locomotive Engineers and Trainmen
REFRESH-INTERVAL;VALUE=DURATION:PT1H
X-Robots-Tag:noindex
X-PUBLISHED-TTL:PT1H
BEGIN:VTIMEZONE
TZID:America/Denver
BEGIN:DAYLIGHT
TZOFFSETFROM:-0700
TZOFFSETTO:-0600
TZNAME:MDT
DTSTART:20280312T090000
END:DAYLIGHT
BEGIN:STANDARD
TZOFFSETFROM:-0600
TZOFFSETTO:-0700
TZNAME:MST
DTSTART:20281105T080000
END:STANDARD
BEGIN:DAYLIGHT
TZOFFSETFROM:-0700
TZOFFSETTO:-0600
TZNAME:MDT
DTSTART:20290311T090000
END:DAYLIGHT
BEGIN:STANDARD
TZOFFSETFROM:-0600
TZOFFSETTO:-0700
TZNAME:MST
DTSTART:20291104T080000
END:STANDARD
BEGIN:DAYLIGHT
TZOFFSETFROM:-0700
TZOFFSETTO:-0600
TZNAME:MDT
DTSTART:20300310T090000
END:DAYLIGHT
BEGIN:STANDARD
TZOFFSETFROM:-0600
TZOFFSETTO:-0700
TZNAME:MST
DTSTART:20301103T080000
END:STANDARD
END:VTIMEZONE
BEGIN:VEVENT
DTSTART;VALUE=DATE:20290523
DTEND;VALUE=DATE:20290524
DTSTAMP:20260424T204419
CREATED:20250618T093708Z
LAST-MODIFIED:20250618T093708Z
UID:10000902-1874188800-1874275199@blet104.org
SUMMARY:VACATION AWARDS
DESCRIPTION:
URL:https://blet104.org/event/vacation-awards/2029-05-23/
END:VEVENT
BEGIN:VEVENT
DTSTART;VALUE=DATE:20290528
DTEND;VALUE=DATE:20290529
DTSTAMP:20260424T204419
CREATED:20250618T093629Z
LAST-MODIFIED:20250618T093716Z
UID:10000641-1874620800-1874707199@blet104.org
SUMMARY:BOARD ADJUSTMENTS
DESCRIPTION:
URL:https://blet104.org/event/board-adjustments/2029-05-28/
END:VEVENT
BEGIN:VEVENT
DTSTART;VALUE=DATE:20290530
DTEND;VALUE=DATE:20290531
DTSTAMP:20260424T204419
CREATED:20250618T093708Z
LAST-MODIFIED:20250618T093708Z
UID:10000903-1874793600-1874879999@blet104.org
SUMMARY:VACATION AWARDS
DESCRIPTION:
URL:https://blet104.org/event/vacation-awards/2029-05-30/
END:VEVENT
BEGIN:VEVENT
DTSTART;VALUE=DATE:20290604
DTEND;VALUE=DATE:20290605
DTSTAMP:20260424T204419
CREATED:20250618T093629Z
LAST-MODIFIED:20250618T093716Z
UID:10000642-1875225600-1875311999@blet104.org
SUMMARY:BOARD ADJUSTMENTS
DESCRIPTION:
URL:https://blet104.org/event/board-adjustments/2029-06-04/
END:VEVENT
BEGIN:VEVENT
DTSTART;VALUE=DATE:20290606
DTEND;VALUE=DATE:20290607
DTSTAMP:20260424T204419
CREATED:20250618T093708Z
LAST-MODIFIED:20250618T093708Z
UID:10000904-1875398400-1875484799@blet104.org
SUMMARY:VACATION AWARDS
DESCRIPTION:
URL:https://blet104.org/event/vacation-awards/2029-06-06/
END:VEVENT
BEGIN:VEVENT
DTSTART;TZID=America/Denver:20290606T101500
DTEND;TZID=America/Denver:20290606T170000
DTSTAMP:20260424T204419
CREATED:20250423T154210Z
LAST-MODIFIED:20250618T093439Z
UID:10000418-1875435300-1875459600@blet104.org
SUMMARY:REGULAR DIVISION 104 MEETING
DESCRIPTION:
URL:https://blet104.org/event/vestibulum-convallis-fermentum/2029-06-06/
END:VEVENT
BEGIN:VEVENT
DTSTART;VALUE=DATE:20290611
DTEND;VALUE=DATE:20290612
DTSTAMP:20260424T204419
CREATED:20250618T093629Z
LAST-MODIFIED:20250618T093716Z
UID:10000643-1875830400-1875916799@blet104.org
SUMMARY:BOARD ADJUSTMENTS
DESCRIPTION:
URL:https://blet104.org/event/board-adjustments/2029-06-11/
END:VEVENT
BEGIN:VEVENT
DTSTART;VALUE=DATE:20290613
DTEND;VALUE=DATE:20290614
DTSTAMP:20260424T204419
CREATED:20250618T093708Z
LAST-MODIFIED:20250618T093708Z
UID:10000905-1876003200-1876089599@blet104.org
SUMMARY:VACATION AWARDS
DESCRIPTION:
URL:https://blet104.org/event/vacation-awards/2029-06-13/
END:VEVENT
BEGIN:VEVENT
DTSTART;VALUE=DATE:20290618
DTEND;VALUE=DATE:20290619
DTSTAMP:20260424T204419
CREATED:20250618T093629Z
LAST-MODIFIED:20250618T093716Z
UID:10000644-1876435200-1876521599@blet104.org
SUMMARY:BOARD ADJUSTMENTS
DESCRIPTION:
URL:https://blet104.org/event/board-adjustments/2029-06-18/
END:VEVENT
BEGIN:VEVENT
DTSTART;VALUE=DATE:20290620
DTEND;VALUE=DATE:20290621
DTSTAMP:20260424T204419
CREATED:20250618T093708Z
LAST-MODIFIED:20250618T093708Z
UID:10000906-1876608000-1876694399@blet104.org
SUMMARY:VACATION AWARDS
DESCRIPTION:
URL:https://blet104.org/event/vacation-awards/2029-06-20/
END:VEVENT
BEGIN:VEVENT
DTSTART;VALUE=DATE:20290625
DTEND;VALUE=DATE:20290626
DTSTAMP:20260424T204419
CREATED:20250618T093629Z
LAST-MODIFIED:20250618T093716Z
UID:10000645-1877040000-1877126399@blet104.org
SUMMARY:BOARD ADJUSTMENTS
DESCRIPTION:
URL:https://blet104.org/event/board-adjustments/2029-06-25/
END:VEVENT
BEGIN:VEVENT
DTSTART;VALUE=DATE:20290627
DTEND;VALUE=DATE:20290628
DTSTAMP:20260424T204419
CREATED:20250618T093708Z
LAST-MODIFIED:20250618T093708Z
UID:10000907-1877212800-1877299199@blet104.org
SUMMARY:VACATION AWARDS
DESCRIPTION:
URL:https://blet104.org/event/vacation-awards/2029-06-27/
END:VEVENT
BEGIN:VEVENT
DTSTART;TZID=America/Denver:20290627T101500
DTEND;TZID=America/Denver:20290627T170000
DTSTAMP:20260424T204419
CREATED:20250423T154210Z
LAST-MODIFIED:20250618T093439Z
UID:10000419-1877249700-1877274000@blet104.org
SUMMARY:REGULAR DIVISION 104 MEETING
DESCRIPTION:
URL:https://blet104.org/event/vestibulum-convallis-fermentum/2029-06-27/
END:VEVENT
BEGIN:VEVENT
DTSTART;VALUE=DATE:20290702
DTEND;VALUE=DATE:20290703
DTSTAMP:20260424T204419
CREATED:20250618T093629Z
LAST-MODIFIED:20250618T093716Z
UID:10000646-1877644800-1877731199@blet104.org
SUMMARY:BOARD ADJUSTMENTS
DESCRIPTION:
URL:https://blet104.org/event/board-adjustments/2029-07-02/
END:VEVENT
BEGIN:VEVENT
DTSTART;VALUE=DATE:20290704
DTEND;VALUE=DATE:20290705
DTSTAMP:20260424T204419
CREATED:20250618T093708Z
LAST-MODIFIED:20250618T093708Z
UID:10000908-1877817600-1877903999@blet104.org
SUMMARY:VACATION AWARDS
DESCRIPTION:
URL:https://blet104.org/event/vacation-awards/2029-07-04/
END:VEVENT
BEGIN:VEVENT
DTSTART;VALUE=DATE:20290709
DTEND;VALUE=DATE:20290710
DTSTAMP:20260424T204419
CREATED:20250618T093629Z
LAST-MODIFIED:20250618T093716Z
UID:10000647-1878249600-1878335999@blet104.org
SUMMARY:BOARD ADJUSTMENTS
DESCRIPTION:
URL:https://blet104.org/event/board-adjustments/2029-07-09/
END:VEVENT
BEGIN:VEVENT
DTSTART;VALUE=DATE:20290711
DTEND;VALUE=DATE:20290712
DTSTAMP:20260424T204419
CREATED:20250618T093708Z
LAST-MODIFIED:20250618T093708Z
UID:10000909-1878422400-1878508799@blet104.org
SUMMARY:VACATION AWARDS
DESCRIPTION:
URL:https://blet104.org/event/vacation-awards/2029-07-11/
END:VEVENT
BEGIN:VEVENT
DTSTART;VALUE=DATE:20290716
DTEND;VALUE=DATE:20290717
DTSTAMP:20260424T204419
CREATED:20250618T093629Z
LAST-MODIFIED:20250618T093716Z
UID:10000648-1878854400-1878940799@blet104.org
SUMMARY:BOARD ADJUSTMENTS
DESCRIPTION:
URL:https://blet104.org/event/board-adjustments/2029-07-16/
END:VEVENT
BEGIN:VEVENT
DTSTART;VALUE=DATE:20290718
DTEND;VALUE=DATE:20290719
DTSTAMP:20260424T204419
CREATED:20250618T093708Z
LAST-MODIFIED:20250618T093708Z
UID:10000910-1879027200-1879113599@blet104.org
SUMMARY:VACATION AWARDS
DESCRIPTION:
URL:https://blet104.org/event/vacation-awards/2029-07-18/
END:VEVENT
BEGIN:VEVENT
DTSTART;TZID=America/Denver:20290718T101500
DTEND;TZID=America/Denver:20290718T170000
DTSTAMP:20260424T204419
CREATED:20250423T154210Z
LAST-MODIFIED:20250618T093439Z
UID:10000420-1879064100-1879088400@blet104.org
SUMMARY:REGULAR DIVISION 104 MEETING
DESCRIPTION:
URL:https://blet104.org/event/vestibulum-convallis-fermentum/2029-07-18/
END:VEVENT
BEGIN:VEVENT
DTSTART;VALUE=DATE:20290723
DTEND;VALUE=DATE:20290724
DTSTAMP:20260424T204419
CREATED:20250618T093629Z
LAST-MODIFIED:20250618T093716Z
UID:10000649-1879459200-1879545599@blet104.org
SUMMARY:BOARD ADJUSTMENTS
DESCRIPTION:
URL:https://blet104.org/event/board-adjustments/2029-07-23/
END:VEVENT
BEGIN:VEVENT
DTSTART;VALUE=DATE:20290725
DTEND;VALUE=DATE:20290726
DTSTAMP:20260424T204419
CREATED:20250618T093708Z
LAST-MODIFIED:20250618T093708Z
UID:10000911-1879632000-1879718399@blet104.org
SUMMARY:VACATION AWARDS
DESCRIPTION:
URL:https://blet104.org/event/vacation-awards/2029-07-25/
END:VEVENT
BEGIN:VEVENT
DTSTART;VALUE=DATE:20290730
DTEND;VALUE=DATE:20290731
DTSTAMP:20260424T204419
CREATED:20250618T093629Z
LAST-MODIFIED:20250618T093716Z
UID:10000650-1880064000-1880150399@blet104.org
SUMMARY:BOARD ADJUSTMENTS
DESCRIPTION:
URL:https://blet104.org/event/board-adjustments/2029-07-30/
END:VEVENT
BEGIN:VEVENT
DTSTART;VALUE=DATE:20290801
DTEND;VALUE=DATE:20290802
DTSTAMP:20260424T204419
CREATED:20250618T093708Z
LAST-MODIFIED:20250618T093708Z
UID:10000912-1880236800-1880323199@blet104.org
SUMMARY:VACATION AWARDS
DESCRIPTION:
URL:https://blet104.org/event/vacation-awards/2029-08-01/
END:VEVENT
BEGIN:VEVENT
DTSTART;VALUE=DATE:20290806
DTEND;VALUE=DATE:20290807
DTSTAMP:20260424T204419
CREATED:20250618T093629Z
LAST-MODIFIED:20250618T093716Z
UID:10000651-1880668800-1880755199@blet104.org
SUMMARY:BOARD ADJUSTMENTS
DESCRIPTION:
URL:https://blet104.org/event/board-adjustments/2029-08-06/
END:VEVENT
BEGIN:VEVENT
DTSTART;VALUE=DATE:20290808
DTEND;VALUE=DATE:20290809
DTSTAMP:20260424T204419
CREATED:20250618T093708Z
LAST-MODIFIED:20250618T093708Z
UID:10000913-1880841600-1880927999@blet104.org
SUMMARY:VACATION AWARDS
DESCRIPTION:
URL:https://blet104.org/event/vacation-awards/2029-08-08/
END:VEVENT
BEGIN:VEVENT
DTSTART;TZID=America/Denver:20290808T101500
DTEND;TZID=America/Denver:20290808T170000
DTSTAMP:20260424T204419
CREATED:20250423T154210Z
LAST-MODIFIED:20250618T093439Z
UID:10000421-1880878500-1880902800@blet104.org
SUMMARY:REGULAR DIVISION 104 MEETING
DESCRIPTION:
URL:https://blet104.org/event/vestibulum-convallis-fermentum/2029-08-08/
END:VEVENT
BEGIN:VEVENT
DTSTART;VALUE=DATE:20290813
DTEND;VALUE=DATE:20290814
DTSTAMP:20260424T204420
CREATED:20250618T093629Z
LAST-MODIFIED:20250618T093716Z
UID:10000652-1881273600-1881359999@blet104.org
SUMMARY:BOARD ADJUSTMENTS
DESCRIPTION:
URL:https://blet104.org/event/board-adjustments/2029-08-13/
END:VEVENT
BEGIN:VEVENT
DTSTART;VALUE=DATE:20290815
DTEND;VALUE=DATE:20290816
DTSTAMP:20260424T204420
CREATED:20250618T093708Z
LAST-MODIFIED:20250618T093708Z
UID:10000914-1881446400-1881532799@blet104.org
SUMMARY:VACATION AWARDS
DESCRIPTION:
URL:https://blet104.org/event/vacation-awards/2029-08-15/
END:VEVENT
BEGIN:VEVENT
DTSTART;VALUE=DATE:20290820
DTEND;VALUE=DATE:20290821
DTSTAMP:20260424T204420
CREATED:20250618T093629Z
LAST-MODIFIED:20250618T093716Z
UID:10000653-1881878400-1881964799@blet104.org
SUMMARY:BOARD ADJUSTMENTS
DESCRIPTION:
URL:https://blet104.org/event/board-adjustments/2029-08-20/
END:VEVENT
END:VCALENDAR