BEGIN:VCALENDAR
VERSION:2.0
PRODID:-//Brotherhood of Locomotive Engineers and Trainmen - ECPv6.15.20//NONSGML v1.0//EN
CALSCALE:GREGORIAN
METHOD:PUBLISH
X-ORIGINAL-URL:https://blet104.org
X-WR-CALDESC:Events for Brotherhood of Locomotive Engineers and Trainmen
REFRESH-INTERVAL;VALUE=DURATION:PT1H
X-Robots-Tag:noindex
X-PUBLISHED-TTL:PT1H
BEGIN:VTIMEZONE
TZID:America/Denver
BEGIN:DAYLIGHT
TZOFFSETFROM:-0700
TZOFFSETTO:-0600
TZNAME:MDT
DTSTART:20250309T090000
END:DAYLIGHT
BEGIN:STANDARD
TZOFFSETFROM:-0600
TZOFFSETTO:-0700
TZNAME:MST
DTSTART:20251102T080000
END:STANDARD
BEGIN:DAYLIGHT
TZOFFSETFROM:-0700
TZOFFSETTO:-0600
TZNAME:MDT
DTSTART:20260308T090000
END:DAYLIGHT
BEGIN:STANDARD
TZOFFSETFROM:-0600
TZOFFSETTO:-0700
TZNAME:MST
DTSTART:20261101T080000
END:STANDARD
BEGIN:DAYLIGHT
TZOFFSETFROM:-0700
TZOFFSETTO:-0600
TZNAME:MDT
DTSTART:20270314T090000
END:DAYLIGHT
BEGIN:STANDARD
TZOFFSETFROM:-0600
TZOFFSETTO:-0700
TZNAME:MST
DTSTART:20271107T080000
END:STANDARD
END:VTIMEZONE
BEGIN:VEVENT
DTSTART;VALUE=DATE:20260713
DTEND;VALUE=DATE:20260714
DTSTAMP:20260422T163025
CREATED:20250618T093629Z
LAST-MODIFIED:20250618T093716Z
UID:10000491-1783900800-1783987199@blet104.org
SUMMARY:BOARD ADJUSTMENTS
DESCRIPTION:
URL:https://blet104.org/event/board-adjustments/2026-07-13/
END:VEVENT
BEGIN:VEVENT
DTSTART;VALUE=DATE:20260715
DTEND;VALUE=DATE:20260716
DTSTAMP:20260422T163025
CREATED:20250618T093708Z
LAST-MODIFIED:20250618T093708Z
UID:10000753-1784073600-1784159999@blet104.org
SUMMARY:VACATION AWARDS
DESCRIPTION:
URL:https://blet104.org/event/vacation-awards/2026-07-15/
END:VEVENT
BEGIN:VEVENT
DTSTART;VALUE=DATE:20260720
DTEND;VALUE=DATE:20260721
DTSTAMP:20260422T163025
CREATED:20250618T093629Z
LAST-MODIFIED:20250618T093716Z
UID:10000492-1784505600-1784591999@blet104.org
SUMMARY:BOARD ADJUSTMENTS
DESCRIPTION:
URL:https://blet104.org/event/board-adjustments/2026-07-20/
END:VEVENT
BEGIN:VEVENT
DTSTART;VALUE=DATE:20260722
DTEND;VALUE=DATE:20260723
DTSTAMP:20260422T163025
CREATED:20250618T093708Z
LAST-MODIFIED:20250618T093708Z
UID:10000754-1784678400-1784764799@blet104.org
SUMMARY:VACATION AWARDS
DESCRIPTION:
URL:https://blet104.org/event/vacation-awards/2026-07-22/
END:VEVENT
BEGIN:VEVENT
DTSTART;TZID=America/Denver:20260722T101500
DTEND;TZID=America/Denver:20260722T170000
DTSTAMP:20260422T163025
CREATED:20250423T154210Z
LAST-MODIFIED:20250618T093439Z
UID:10000368-1784715300-1784739600@blet104.org
SUMMARY:REGULAR DIVISION 104 MEETING
DESCRIPTION:
URL:https://blet104.org/event/vestibulum-convallis-fermentum/2026-07-22/
END:VEVENT
BEGIN:VEVENT
DTSTART;VALUE=DATE:20260727
DTEND;VALUE=DATE:20260728
DTSTAMP:20260422T163025
CREATED:20250618T093629Z
LAST-MODIFIED:20250618T093716Z
UID:10000493-1785110400-1785196799@blet104.org
SUMMARY:BOARD ADJUSTMENTS
DESCRIPTION:
URL:https://blet104.org/event/board-adjustments/2026-07-27/
END:VEVENT
BEGIN:VEVENT
DTSTART;VALUE=DATE:20260729
DTEND;VALUE=DATE:20260730
DTSTAMP:20260422T163025
CREATED:20250618T093708Z
LAST-MODIFIED:20250618T093708Z
UID:10000755-1785283200-1785369599@blet104.org
SUMMARY:VACATION AWARDS
DESCRIPTION:
URL:https://blet104.org/event/vacation-awards/2026-07-29/
END:VEVENT
BEGIN:VEVENT
DTSTART;VALUE=DATE:20260803
DTEND;VALUE=DATE:20260804
DTSTAMP:20260422T163025
CREATED:20250618T093629Z
LAST-MODIFIED:20250618T093716Z
UID:10000494-1785715200-1785801599@blet104.org
SUMMARY:BOARD ADJUSTMENTS
DESCRIPTION:
URL:https://blet104.org/event/board-adjustments/2026-08-03/
END:VEVENT
BEGIN:VEVENT
DTSTART;VALUE=DATE:20260805
DTEND;VALUE=DATE:20260806
DTSTAMP:20260422T163025
CREATED:20250618T093708Z
LAST-MODIFIED:20250618T093708Z
UID:10000756-1785888000-1785974399@blet104.org
SUMMARY:VACATION AWARDS
DESCRIPTION:
URL:https://blet104.org/event/vacation-awards/2026-08-05/
END:VEVENT
BEGIN:VEVENT
DTSTART;VALUE=DATE:20260810
DTEND;VALUE=DATE:20260811
DTSTAMP:20260422T163025
CREATED:20250618T093629Z
LAST-MODIFIED:20250618T093716Z
UID:10000495-1786320000-1786406399@blet104.org
SUMMARY:BOARD ADJUSTMENTS
DESCRIPTION:
URL:https://blet104.org/event/board-adjustments/2026-08-10/
END:VEVENT
BEGIN:VEVENT
DTSTART;VALUE=DATE:20260812
DTEND;VALUE=DATE:20260813
DTSTAMP:20260422T163025
CREATED:20250618T093708Z
LAST-MODIFIED:20250618T093708Z
UID:10000757-1786492800-1786579199@blet104.org
SUMMARY:VACATION AWARDS
DESCRIPTION:
URL:https://blet104.org/event/vacation-awards/2026-08-12/
END:VEVENT
BEGIN:VEVENT
DTSTART;TZID=America/Denver:20260812T101500
DTEND;TZID=America/Denver:20260812T170000
DTSTAMP:20260422T163025
CREATED:20250423T154210Z
LAST-MODIFIED:20250618T093439Z
UID:10000369-1786529700-1786554000@blet104.org
SUMMARY:REGULAR DIVISION 104 MEETING
DESCRIPTION:
URL:https://blet104.org/event/vestibulum-convallis-fermentum/2026-08-12/
END:VEVENT
BEGIN:VEVENT
DTSTART;VALUE=DATE:20260817
DTEND;VALUE=DATE:20260818
DTSTAMP:20260422T163025
CREATED:20250618T093629Z
LAST-MODIFIED:20250618T093716Z
UID:10000496-1786924800-1787011199@blet104.org
SUMMARY:BOARD ADJUSTMENTS
DESCRIPTION:
URL:https://blet104.org/event/board-adjustments/2026-08-17/
END:VEVENT
BEGIN:VEVENT
DTSTART;VALUE=DATE:20260819
DTEND;VALUE=DATE:20260820
DTSTAMP:20260422T163025
CREATED:20250618T093708Z
LAST-MODIFIED:20250618T093708Z
UID:10000758-1787097600-1787183999@blet104.org
SUMMARY:VACATION AWARDS
DESCRIPTION:
URL:https://blet104.org/event/vacation-awards/2026-08-19/
END:VEVENT
BEGIN:VEVENT
DTSTART;VALUE=DATE:20260824
DTEND;VALUE=DATE:20260825
DTSTAMP:20260422T163025
CREATED:20250618T093629Z
LAST-MODIFIED:20250618T093716Z
UID:10000497-1787529600-1787615999@blet104.org
SUMMARY:BOARD ADJUSTMENTS
DESCRIPTION:
URL:https://blet104.org/event/board-adjustments/2026-08-24/
END:VEVENT
BEGIN:VEVENT
DTSTART;VALUE=DATE:20260826
DTEND;VALUE=DATE:20260827
DTSTAMP:20260422T163025
CREATED:20250618T093708Z
LAST-MODIFIED:20250618T093708Z
UID:10000759-1787702400-1787788799@blet104.org
SUMMARY:VACATION AWARDS
DESCRIPTION:
URL:https://blet104.org/event/vacation-awards/2026-08-26/
END:VEVENT
BEGIN:VEVENT
DTSTART;VALUE=DATE:20260831
DTEND;VALUE=DATE:20260901
DTSTAMP:20260422T163025
CREATED:20250618T093629Z
LAST-MODIFIED:20250618T093716Z
UID:10000498-1788134400-1788220799@blet104.org
SUMMARY:BOARD ADJUSTMENTS
DESCRIPTION:
URL:https://blet104.org/event/board-adjustments/2026-08-31/
END:VEVENT
BEGIN:VEVENT
DTSTART;VALUE=DATE:20260902
DTEND;VALUE=DATE:20260903
DTSTAMP:20260422T163025
CREATED:20250618T093708Z
LAST-MODIFIED:20250618T093708Z
UID:10000760-1788307200-1788393599@blet104.org
SUMMARY:VACATION AWARDS
DESCRIPTION:
URL:https://blet104.org/event/vacation-awards/2026-09-02/
END:VEVENT
BEGIN:VEVENT
DTSTART;TZID=America/Denver:20260902T101500
DTEND;TZID=America/Denver:20260902T170000
DTSTAMP:20260422T163025
CREATED:20250423T154210Z
LAST-MODIFIED:20250618T093439Z
UID:10000370-1788344100-1788368400@blet104.org
SUMMARY:REGULAR DIVISION 104 MEETING
DESCRIPTION:
URL:https://blet104.org/event/vestibulum-convallis-fermentum/2026-09-02/
END:VEVENT
BEGIN:VEVENT
DTSTART;VALUE=DATE:20260907
DTEND;VALUE=DATE:20260908
DTSTAMP:20260422T163025
CREATED:20250618T093629Z
LAST-MODIFIED:20250618T093716Z
UID:10000499-1788739200-1788825599@blet104.org
SUMMARY:BOARD ADJUSTMENTS
DESCRIPTION:
URL:https://blet104.org/event/board-adjustments/2026-09-07/
END:VEVENT
BEGIN:VEVENT
DTSTART;VALUE=DATE:20260909
DTEND;VALUE=DATE:20260910
DTSTAMP:20260422T163025
CREATED:20250618T093708Z
LAST-MODIFIED:20250618T093708Z
UID:10000761-1788912000-1788998399@blet104.org
SUMMARY:VACATION AWARDS
DESCRIPTION:
URL:https://blet104.org/event/vacation-awards/2026-09-09/
END:VEVENT
BEGIN:VEVENT
DTSTART;VALUE=DATE:20260914
DTEND;VALUE=DATE:20260915
DTSTAMP:20260422T163025
CREATED:20250618T093629Z
LAST-MODIFIED:20250618T093716Z
UID:10000500-1789344000-1789430399@blet104.org
SUMMARY:BOARD ADJUSTMENTS
DESCRIPTION:
URL:https://blet104.org/event/board-adjustments/2026-09-14/
END:VEVENT
BEGIN:VEVENT
DTSTART;VALUE=DATE:20260916
DTEND;VALUE=DATE:20260917
DTSTAMP:20260422T163025
CREATED:20250618T093708Z
LAST-MODIFIED:20250618T093708Z
UID:10000762-1789516800-1789603199@blet104.org
SUMMARY:VACATION AWARDS
DESCRIPTION:
URL:https://blet104.org/event/vacation-awards/2026-09-16/
END:VEVENT
BEGIN:VEVENT
DTSTART;VALUE=DATE:20260921
DTEND;VALUE=DATE:20260922
DTSTAMP:20260422T163025
CREATED:20250618T093629Z
LAST-MODIFIED:20250618T093716Z
UID:10000501-1789948800-1790035199@blet104.org
SUMMARY:BOARD ADJUSTMENTS
DESCRIPTION:
URL:https://blet104.org/event/board-adjustments/2026-09-21/
END:VEVENT
BEGIN:VEVENT
DTSTART;VALUE=DATE:20260923
DTEND;VALUE=DATE:20260924
DTSTAMP:20260422T163025
CREATED:20250618T093708Z
LAST-MODIFIED:20250618T093708Z
UID:10000763-1790121600-1790207999@blet104.org
SUMMARY:VACATION AWARDS
DESCRIPTION:
URL:https://blet104.org/event/vacation-awards/2026-09-23/
END:VEVENT
BEGIN:VEVENT
DTSTART;TZID=America/Denver:20260923T101500
DTEND;TZID=America/Denver:20260923T170000
DTSTAMP:20260422T163025
CREATED:20250423T154210Z
LAST-MODIFIED:20250618T093439Z
UID:10000371-1790158500-1790182800@blet104.org
SUMMARY:REGULAR DIVISION 104 MEETING
DESCRIPTION:
URL:https://blet104.org/event/vestibulum-convallis-fermentum/2026-09-23/
END:VEVENT
BEGIN:VEVENT
DTSTART;VALUE=DATE:20260928
DTEND;VALUE=DATE:20260929
DTSTAMP:20260422T163025
CREATED:20250618T093629Z
LAST-MODIFIED:20250618T093716Z
UID:10000502-1790553600-1790639999@blet104.org
SUMMARY:BOARD ADJUSTMENTS
DESCRIPTION:
URL:https://blet104.org/event/board-adjustments/2026-09-28/
END:VEVENT
BEGIN:VEVENT
DTSTART;VALUE=DATE:20260930
DTEND;VALUE=DATE:20261001
DTSTAMP:20260422T163025
CREATED:20250618T093708Z
LAST-MODIFIED:20250618T093708Z
UID:10000764-1790726400-1790812799@blet104.org
SUMMARY:VACATION AWARDS
DESCRIPTION:
URL:https://blet104.org/event/vacation-awards/2026-09-30/
END:VEVENT
BEGIN:VEVENT
DTSTART;VALUE=DATE:20261005
DTEND;VALUE=DATE:20261006
DTSTAMP:20260422T163025
CREATED:20250618T093629Z
LAST-MODIFIED:20250618T093716Z
UID:10000503-1791158400-1791244799@blet104.org
SUMMARY:BOARD ADJUSTMENTS
DESCRIPTION:
URL:https://blet104.org/event/board-adjustments/2026-10-05/
END:VEVENT
BEGIN:VEVENT
DTSTART;VALUE=DATE:20261007
DTEND;VALUE=DATE:20261008
DTSTAMP:20260422T163025
CREATED:20250618T093708Z
LAST-MODIFIED:20250618T093708Z
UID:10000765-1791331200-1791417599@blet104.org
SUMMARY:VACATION AWARDS
DESCRIPTION:
URL:https://blet104.org/event/vacation-awards/2026-10-07/
END:VEVENT
END:VCALENDAR