BEGIN:VCALENDAR
VERSION:2.0
PRODID:-//Brotherhood of Locomotive Engineers and Trainmen - ECPv6.15.20//NONSGML v1.0//EN
CALSCALE:GREGORIAN
METHOD:PUBLISH
X-WR-CALNAME:Brotherhood of Locomotive Engineers and Trainmen
X-ORIGINAL-URL:https://blet104.org
X-WR-CALDESC:Events for Brotherhood of Locomotive Engineers and Trainmen
REFRESH-INTERVAL;VALUE=DURATION:PT1H
X-Robots-Tag:noindex
X-PUBLISHED-TTL:PT1H
BEGIN:VTIMEZONE
TZID:America/Denver
BEGIN:DAYLIGHT
TZOFFSETFROM:-0700
TZOFFSETTO:-0600
TZNAME:MDT
DTSTART:20240310T090000
END:DAYLIGHT
BEGIN:STANDARD
TZOFFSETFROM:-0600
TZOFFSETTO:-0700
TZNAME:MST
DTSTART:20241103T080000
END:STANDARD
BEGIN:DAYLIGHT
TZOFFSETFROM:-0700
TZOFFSETTO:-0600
TZNAME:MDT
DTSTART:20250309T090000
END:DAYLIGHT
BEGIN:STANDARD
TZOFFSETFROM:-0600
TZOFFSETTO:-0700
TZNAME:MST
DTSTART:20251102T080000
END:STANDARD
BEGIN:DAYLIGHT
TZOFFSETFROM:-0700
TZOFFSETTO:-0600
TZNAME:MDT
DTSTART:20260308T090000
END:DAYLIGHT
BEGIN:STANDARD
TZOFFSETFROM:-0600
TZOFFSETTO:-0700
TZNAME:MST
DTSTART:20261101T080000
END:STANDARD
END:VTIMEZONE
BEGIN:VEVENT
DTSTART;VALUE=DATE:20251008
DTEND;VALUE=DATE:20251009
DTSTAMP:20260422T165044
CREATED:20250618T093708Z
LAST-MODIFIED:20250618T093708Z
UID:10000713-1759881600-1759967999@blet104.org
SUMMARY:VACATION AWARDS
DESCRIPTION:
URL:https://blet104.org/event/vacation-awards/2025-10-08/
END:VEVENT
BEGIN:VEVENT
DTSTART;VALUE=DATE:20251006
DTEND;VALUE=DATE:20251007
DTSTAMP:20260422T165044
CREATED:20250618T093629Z
LAST-MODIFIED:20250618T093716Z
UID:10000451-1759708800-1759795199@blet104.org
SUMMARY:BOARD ADJUSTMENTS
DESCRIPTION:
URL:https://blet104.org/event/board-adjustments/2025-10-06/
END:VEVENT
BEGIN:VEVENT
DTSTART;TZID=America/Denver:20251001T101500
DTEND;TZID=America/Denver:20251001T170000
DTSTAMP:20260422T165044
CREATED:20250423T154210Z
LAST-MODIFIED:20250618T093439Z
UID:10000354-1759313700-1759338000@blet104.org
SUMMARY:REGULAR DIVISION 104 MEETING
DESCRIPTION:
URL:https://blet104.org/event/vestibulum-convallis-fermentum/2025-10-01/
END:VEVENT
BEGIN:VEVENT
DTSTART;VALUE=DATE:20251001
DTEND;VALUE=DATE:20251002
DTSTAMP:20260422T165044
CREATED:20250618T093708Z
LAST-MODIFIED:20250618T093708Z
UID:10000712-1759276800-1759363199@blet104.org
SUMMARY:VACATION AWARDS
DESCRIPTION:
URL:https://blet104.org/event/vacation-awards/2025-10-01/
END:VEVENT
BEGIN:VEVENT
DTSTART;VALUE=DATE:20250929
DTEND;VALUE=DATE:20250930
DTSTAMP:20260422T165044
CREATED:20250618T093629Z
LAST-MODIFIED:20250618T093716Z
UID:10000450-1759104000-1759190399@blet104.org
SUMMARY:BOARD ADJUSTMENTS
DESCRIPTION:
URL:https://blet104.org/event/board-adjustments/2025-09-29/
END:VEVENT
BEGIN:VEVENT
DTSTART;VALUE=DATE:20250924
DTEND;VALUE=DATE:20250925
DTSTAMP:20260422T165044
CREATED:20250618T093708Z
LAST-MODIFIED:20250618T093708Z
UID:10000711-1758672000-1758758399@blet104.org
SUMMARY:VACATION AWARDS
DESCRIPTION:
URL:https://blet104.org/event/vacation-awards/2025-09-24/
END:VEVENT
BEGIN:VEVENT
DTSTART;VALUE=DATE:20250922
DTEND;VALUE=DATE:20250923
DTSTAMP:20260422T165044
CREATED:20250618T093629Z
LAST-MODIFIED:20250618T093716Z
UID:10000449-1758499200-1758585599@blet104.org
SUMMARY:BOARD ADJUSTMENTS
DESCRIPTION:
URL:https://blet104.org/event/board-adjustments/2025-09-22/
END:VEVENT
BEGIN:VEVENT
DTSTART;VALUE=DATE:20250917
DTEND;VALUE=DATE:20250918
DTSTAMP:20260422T165044
CREATED:20250618T093708Z
LAST-MODIFIED:20250618T093708Z
UID:10000710-1758067200-1758153599@blet104.org
SUMMARY:VACATION AWARDS
DESCRIPTION:
URL:https://blet104.org/event/vacation-awards/2025-09-17/
END:VEVENT
BEGIN:VEVENT
DTSTART;VALUE=DATE:20250915
DTEND;VALUE=DATE:20250916
DTSTAMP:20260422T165044
CREATED:20250618T093629Z
LAST-MODIFIED:20250618T093716Z
UID:10000448-1757894400-1757980799@blet104.org
SUMMARY:BOARD ADJUSTMENTS
DESCRIPTION:
URL:https://blet104.org/event/board-adjustments/2025-09-15/
END:VEVENT
BEGIN:VEVENT
DTSTART;TZID=America/Denver:20250910T101500
DTEND;TZID=America/Denver:20250910T170000
DTSTAMP:20260422T165044
CREATED:20250423T154210Z
LAST-MODIFIED:20250618T093439Z
UID:10000353-1757499300-1757523600@blet104.org
SUMMARY:REGULAR DIVISION 104 MEETING
DESCRIPTION:
URL:https://blet104.org/event/vestibulum-convallis-fermentum/2025-09-10/
END:VEVENT
BEGIN:VEVENT
DTSTART;VALUE=DATE:20250910
DTEND;VALUE=DATE:20250911
DTSTAMP:20260422T165044
CREATED:20250618T093708Z
LAST-MODIFIED:20250618T093708Z
UID:10000709-1757462400-1757548799@blet104.org
SUMMARY:VACATION AWARDS
DESCRIPTION:
URL:https://blet104.org/event/vacation-awards/2025-09-10/
END:VEVENT
BEGIN:VEVENT
DTSTART;VALUE=DATE:20250908
DTEND;VALUE=DATE:20250909
DTSTAMP:20260422T165044
CREATED:20250618T093629Z
LAST-MODIFIED:20250618T093716Z
UID:10000447-1757289600-1757375999@blet104.org
SUMMARY:BOARD ADJUSTMENTS
DESCRIPTION:
URL:https://blet104.org/event/board-adjustments/2025-09-08/
END:VEVENT
BEGIN:VEVENT
DTSTART;VALUE=DATE:20250903
DTEND;VALUE=DATE:20250904
DTSTAMP:20260422T165044
CREATED:20250618T093708Z
LAST-MODIFIED:20250618T093708Z
UID:10000708-1756857600-1756943999@blet104.org
SUMMARY:VACATION AWARDS
DESCRIPTION:
URL:https://blet104.org/event/vacation-awards/2025-09-03/
END:VEVENT
BEGIN:VEVENT
DTSTART;VALUE=DATE:20250901
DTEND;VALUE=DATE:20250902
DTSTAMP:20260422T165044
CREATED:20250618T093629Z
LAST-MODIFIED:20250618T093716Z
UID:10000446-1756684800-1756771199@blet104.org
SUMMARY:BOARD ADJUSTMENTS
DESCRIPTION:
URL:https://blet104.org/event/board-adjustments/2025-09-01/
END:VEVENT
BEGIN:VEVENT
DTSTART;VALUE=DATE:20250827
DTEND;VALUE=DATE:20250828
DTSTAMP:20260422T165044
CREATED:20250618T093708Z
LAST-MODIFIED:20250618T093708Z
UID:10000707-1756252800-1756339199@blet104.org
SUMMARY:VACATION AWARDS
DESCRIPTION:
URL:https://blet104.org/event/vacation-awards/2025-08-27/
END:VEVENT
BEGIN:VEVENT
DTSTART;VALUE=DATE:20250825
DTEND;VALUE=DATE:20250826
DTSTAMP:20260422T165044
CREATED:20250618T093629Z
LAST-MODIFIED:20250618T093716Z
UID:10000445-1756080000-1756166399@blet104.org
SUMMARY:BOARD ADJUSTMENTS
DESCRIPTION:
URL:https://blet104.org/event/board-adjustments/2025-08-25/
END:VEVENT
BEGIN:VEVENT
DTSTART;TZID=America/Denver:20250820T101500
DTEND;TZID=America/Denver:20250820T170000
DTSTAMP:20260422T165044
CREATED:20250423T154210Z
LAST-MODIFIED:20250618T093439Z
UID:10000352-1755684900-1755709200@blet104.org
SUMMARY:REGULAR DIVISION 104 MEETING
DESCRIPTION:
URL:https://blet104.org/event/vestibulum-convallis-fermentum/2025-08-20/
END:VEVENT
BEGIN:VEVENT
DTSTART;VALUE=DATE:20250820
DTEND;VALUE=DATE:20250821
DTSTAMP:20260422T165044
CREATED:20250618T093708Z
LAST-MODIFIED:20250618T093708Z
UID:10000706-1755648000-1755734399@blet104.org
SUMMARY:VACATION AWARDS
DESCRIPTION:
URL:https://blet104.org/event/vacation-awards/2025-08-20/
END:VEVENT
BEGIN:VEVENT
DTSTART;VALUE=DATE:20250818
DTEND;VALUE=DATE:20250819
DTSTAMP:20260422T165044
CREATED:20250618T093629Z
LAST-MODIFIED:20250618T093716Z
UID:10000444-1755475200-1755561599@blet104.org
SUMMARY:BOARD ADJUSTMENTS
DESCRIPTION:
URL:https://blet104.org/event/board-adjustments/2025-08-18/
END:VEVENT
BEGIN:VEVENT
DTSTART;VALUE=DATE:20250813
DTEND;VALUE=DATE:20250814
DTSTAMP:20260422T165044
CREATED:20250618T093708Z
LAST-MODIFIED:20250618T093708Z
UID:10000705-1755043200-1755129599@blet104.org
SUMMARY:VACATION AWARDS
DESCRIPTION:
URL:https://blet104.org/event/vacation-awards/2025-08-13/
END:VEVENT
BEGIN:VEVENT
DTSTART;VALUE=DATE:20250811
DTEND;VALUE=DATE:20250812
DTSTAMP:20260422T165044
CREATED:20250618T093629Z
LAST-MODIFIED:20250618T093716Z
UID:10000443-1754870400-1754956799@blet104.org
SUMMARY:BOARD ADJUSTMENTS
DESCRIPTION:
URL:https://blet104.org/event/board-adjustments/2025-08-11/
END:VEVENT
BEGIN:VEVENT
DTSTART;VALUE=DATE:20250806
DTEND;VALUE=DATE:20250807
DTSTAMP:20260422T165044
CREATED:20250618T093708Z
LAST-MODIFIED:20250618T093708Z
UID:10000704-1754438400-1754524799@blet104.org
SUMMARY:VACATION AWARDS
DESCRIPTION:
URL:https://blet104.org/event/vacation-awards/2025-08-06/
END:VEVENT
BEGIN:VEVENT
DTSTART;VALUE=DATE:20250804
DTEND;VALUE=DATE:20250805
DTSTAMP:20260422T165044
CREATED:20250618T093629Z
LAST-MODIFIED:20250618T093716Z
UID:10000442-1754265600-1754351999@blet104.org
SUMMARY:BOARD ADJUSTMENTS
DESCRIPTION:
URL:https://blet104.org/event/board-adjustments/2025-08-04/
END:VEVENT
BEGIN:VEVENT
DTSTART;TZID=America/Denver:20250730T101500
DTEND;TZID=America/Denver:20250730T170000
DTSTAMP:20260422T165044
CREATED:20250423T154210Z
LAST-MODIFIED:20250618T093439Z
UID:10000351-1753870500-1753894800@blet104.org
SUMMARY:REGULAR DIVISION 104 MEETING
DESCRIPTION:
URL:https://blet104.org/event/vestibulum-convallis-fermentum/2025-07-30/
END:VEVENT
BEGIN:VEVENT
DTSTART;VALUE=DATE:20250730
DTEND;VALUE=DATE:20250731
DTSTAMP:20260422T165044
CREATED:20250618T093708Z
LAST-MODIFIED:20250618T093708Z
UID:10000703-1753833600-1753919999@blet104.org
SUMMARY:VACATION AWARDS
DESCRIPTION:
URL:https://blet104.org/event/vacation-awards/2025-07-30/
END:VEVENT
BEGIN:VEVENT
DTSTART;VALUE=DATE:20250728
DTEND;VALUE=DATE:20250729
DTSTAMP:20260422T165044
CREATED:20250618T093629Z
LAST-MODIFIED:20250618T093716Z
UID:10000441-1753660800-1753747199@blet104.org
SUMMARY:BOARD ADJUSTMENTS
DESCRIPTION:
URL:https://blet104.org/event/board-adjustments/2025-07-28/
END:VEVENT
BEGIN:VEVENT
DTSTART;VALUE=DATE:20250723
DTEND;VALUE=DATE:20250724
DTSTAMP:20260422T165044
CREATED:20250618T093708Z
LAST-MODIFIED:20250618T093708Z
UID:10000702-1753228800-1753315199@blet104.org
SUMMARY:VACATION AWARDS
DESCRIPTION:
URL:https://blet104.org/event/vacation-awards/2025-07-23/
END:VEVENT
BEGIN:VEVENT
DTSTART;VALUE=DATE:20250721
DTEND;VALUE=DATE:20250722
DTSTAMP:20260422T165044
CREATED:20250618T093629Z
LAST-MODIFIED:20250618T093716Z
UID:10000440-1753056000-1753142399@blet104.org
SUMMARY:BOARD ADJUSTMENTS
DESCRIPTION:
URL:https://blet104.org/event/board-adjustments/2025-07-21/
END:VEVENT
BEGIN:VEVENT
DTSTART;VALUE=DATE:20250716
DTEND;VALUE=DATE:20250717
DTSTAMP:20260422T165044
CREATED:20250618T093708Z
LAST-MODIFIED:20250618T093708Z
UID:10000701-1752624000-1752710399@blet104.org
SUMMARY:VACATION AWARDS
DESCRIPTION:
URL:https://blet104.org/event/vacation-awards/2025-07-16/
END:VEVENT
BEGIN:VEVENT
DTSTART;VALUE=DATE:20250714
DTEND;VALUE=DATE:20250715
DTSTAMP:20260422T165044
CREATED:20250618T093629Z
LAST-MODIFIED:20250618T093716Z
UID:10000439-1752451200-1752537599@blet104.org
SUMMARY:BOARD ADJUSTMENTS
DESCRIPTION:
URL:https://blet104.org/event/board-adjustments/2025-07-14/
END:VEVENT
END:VCALENDAR